BEGIN:VCALENDAR
VERSION:2.0
PRODID:-//TOblink Events - ECPv6.3.3.1//NONSGML v1.0//EN
CALSCALE:GREGORIAN
METHOD:PUBLISH
X-ORIGINAL-URL:https://toblink.com
X-WR-CALDESC:Events for TOblink Events
REFRESH-INTERVAL;VALUE=DURATION:PT1H
X-Robots-Tag:noindex
X-PUBLISHED-TTL:PT1H
BEGIN:VTIMEZONE
TZID:America/Halifax
BEGIN:DAYLIGHT
TZOFFSETFROM:-0400
TZOFFSETTO:-0300
TZNAME:ADT
DTSTART:20180311T060000
END:DAYLIGHT
BEGIN:STANDARD
TZOFFSETFROM:-0300
TZOFFSETTO:-0400
TZNAME:AST
DTSTART:20181104T050000
END:STANDARD
TZID:America/Toronto
BEGIN:DAYLIGHT
TZOFFSETFROM:-0500
TZOFFSETTO:-0400
TZNAME:EDT
DTSTART:20180311T070000
END:DAYLIGHT
BEGIN:STANDARD
TZOFFSETFROM:-0400
TZOFFSETTO:-0500
TZNAME:EST
DTSTART:20181104T060000
END:STANDARD
END:VTIMEZONE
BEGIN:VEVENT
DTSTART;TZID=America/Halifax:20180901T080000
DTEND;TZID=America/Halifax:20181103T180000
DTSTAMP:20260415T220427
CREATED:20180724T173823Z
LAST-MODIFIED:20180724T173823Z
UID:1684-1535788800-1541268000@toblink.com
SUMMARY:Madawaska River MSK Long Weekend #2
DESCRIPTION:https://www.malisvetkanada.org/dogadjanja \nMadawaska River\nMSK Long Weekend #2 \n#zaOSMEH \nCamping\, River Activities\, Kayak Lessons\, Fishing\, Fun Games\, BBQ\, Party\nAll ages\, pet friendly \nRegistration: \n$20 per person\nFREE for children to 16 years  \nPalmer Rapids\nFor further info and to register:\nhttps://www.malisvetkanada.org/dogadjanja
URL:https://toblink.com/event/madawaska-river-msk-long-weekend-2/
LOCATION:Madawaska River\, Ontario\, Canada
ATTACH;FMTTYPE=image/jpeg:https://toblink.com/wp-content/uploads/2018/07/palmer_rapids_canoos.jpg
ORGANIZER;CN="Mali svet Kanada":MAILTO:info@malisvetkanada.org
END:VEVENT
BEGIN:VEVENT
DTSTART;TZID=America/Halifax:20180901T120000
DTEND;TZID=America/Halifax:20180901T120000
DTSTAMP:20260415T220427
CREATED:20180726T162741Z
LAST-MODIFIED:20180801T154223Z
UID:1713-1535803200-1535803200@toblink.com
SUMMARY:SERBIAN FOOD FEST 2018
DESCRIPTION:We are proudly announce our fifth annual Mississauga Serbian Food Festival 2018! Thank you to everyone who continuously demonstrates support for our Church by sharing this event and raising awareness! \nSaturday\, September 1st (12PM – Midnight) \n– Free Admission\n– Live Serbian Music\n– Kolo\n– Assortment of traditional Serbian foods and desserts\n– Evening entertainment \nLocation: \nAll Serbian Saints Serbian Orthodox Church \n2520 Dixie Rd\, Mississauga
URL:https://toblink.com/event/serbian-food-fest-2018/
LOCATION:All Serbian Saints Serbian Orthodox Church\, 2520 Dixie Rd\,\, Mississauga\, Ontario\, L4Y 2A5\, Canada
ATTACH;FMTTYPE=image/jpeg:https://toblink.com/wp-content/uploads/2018/07/food-fest-msff-2018-02.jpg
ORGANIZER;CN="All Serbian Saints Serbian Orthodox Church":MAILTO:serborthmiss@gmail.com
END:VEVENT
BEGIN:VEVENT
DTSTART;TZID=America/Halifax:20180901T200000
DTEND;TZID=America/Halifax:20180901T200000
DTSTAMP:20260415T220427
CREATED:20180824T162622Z
LAST-MODIFIED:20180824T162622Z
UID:1801-1535832000-1535832000@toblink.com
SUMMARY:Stomaklije at Flamingo's Restaurant
DESCRIPTION:Stomaklije sviraju hitove ex-YU rokenrola. \nDodjite na zurku! \nObecavamo odlican provod! \n  \nHosted by Rock Dijaspora! \nhttps://www.facebook.com/RockDijaspora/
URL:https://toblink.com/event/stomaklije-at-flamingos-restaurant/
LOCATION:Flamingo’s Restaurant\, 385 The West Mall\, Etobicoke\,\, Ontario\, M9C 1E7\, Canada
CATEGORIES:Music
ATTACH;FMTTYPE=image/jpeg:https://toblink.com/wp-content/uploads/2018/08/40021512_1857842257635360_2216003413051703296_n.jpg
END:VEVENT
BEGIN:VEVENT
DTSTART;TZID=America/Halifax:20180914T200000
DTEND;TZID=America/Halifax:20180914T220000
DTSTAMP:20260415T220427
CREATED:20180724T174944Z
LAST-MODIFIED:20180801T153915Z
UID:1693-1536955200-1536962400@toblink.com
SUMMARY:Barcelona Gipsy BalKan Orchestra - Waterloo
DESCRIPTION:The world music attraction–Barcelona Gipsy BalKan Ochestra – First time in Canada!!!\nBGKO is an international ensemble of musicians based in Barcelona which is awakening the interest of audiences all over Europe through their genuine reinterpretations of traditional music from the Balkans\, the Middle East\, and the Mediterranean shores. A music that goes straight to your heart .\nThe unique and contemporary sound of the BGKO comes from their passionate and relentless exploration of sounds and timbres from the Romani\, Klezmer\, Balkan\, and Mediterranean music. All understood as a set of musical traditions and multi ethnic cultures which go beyond any geographical boundary\, nurtured by the imprints of the different peoples who inhabited these lands.\nThe group itself blend the different artistic influences of its members\, enriched\, and shaped by Barcelona’s vibrant musical scene: from traditional Spain\, Greek\, Italian\, Russian and Middle Eastern songs to the vital vibes of jazz manouche and rockabilly.\nBGKO are Sandra Sangiao (voice\, Spain)\, Mattia Schirosa (accordion\, Italy)\, Julien Chanal (guitar\, France)\, Ivan Kovačević (double bass\, Serbia)\, Stelios Togias (percussion\, Greece)\, Dani Carbonell (clarinet\, Spain) and Oleksandr Sora (violin\, Ukraine)
URL:https://toblink.com/event/barcelona-gipsy-balkan-orchestra-waterloo/
LOCATION:pin Theatre of the Arts/ Department of Drama\, 200 University Avenue W./Ring road\,\, Waterloo\, Ontario\, N2L 3G1\, Canada
CATEGORIES:Concert
ATTACH;FMTTYPE=image/jpeg:https://toblink.com/wp-content/uploads/2018/07/BGKO-foto-cartel-2-1540x950.jpg
ORGANIZER;CN="studio 011":MAILTO:dragang07@gmail.com
END:VEVENT
BEGIN:VEVENT
DTSTART;TZID=America/Halifax:20180914T200000
DTEND;TZID=America/Halifax:20180914T233000
DTSTAMP:20260415T220427
CREATED:20180824T163457Z
LAST-MODIFIED:20180824T163457Z
UID:1805-1536955200-1536967800@toblink.com
SUMMARY:Kerber - Live in Toronto
DESCRIPTION:Sale Dates and Times: \nPublic On sale : Fri\, 11 Sep 2009 at 08:00 PM \nathena@theoperahousetoronto.com
URL:https://toblink.com/event/kerber-live-in-toronto/
LOCATION:The Opera House\, 735 Queen St. E.\,\, Toronto\,\, Ontario\, M4M 1H1\, Canada
CATEGORIES:Concert
ATTACH;FMTTYPE=image/jpeg:https://toblink.com/wp-content/uploads/2018/08/37967891_1886620984739654_4880677664102285312_n.jpg
END:VEVENT
BEGIN:VEVENT
DTSTART;TZID=America/Halifax:20180915T200000
DTEND;TZID=America/Halifax:20180915T220000
DTSTAMP:20260415T220427
CREATED:20180724T174559Z
LAST-MODIFIED:20180801T153718Z
UID:1688-1537041600-1537048800@toblink.com
SUMMARY:Barcelona Gipsy BalKan Orchestra-Toronto
DESCRIPTION:The world music attraction–Barcelona Gipsy BalKan Ochestra – First time in Canada!!!\nBGKO is an international ensemble of musicians based in Barcelona which is awakening the interest of audiences all over Europe through their genuine reinterpretations of traditional music from the Balkans\, the Middle East\, and the Mediterranean shores. A music that goes straight to your heart .\nThe unique and contemporary sound of the BGKO comes from their passionate and relentless exploration of sounds and timbres from the Romani\, Klezmer\, Balkan\, and Mediterranean music. All understood as a set of musical traditions and multi ethnic cultures which go beyond any geographical boundary\, nurtured by the imprints of the different peoples who inhabited these lands.\nThe group itself blend the different artistic influences of its members\, enriched\, and shaped by Barcelona’s vibrant musical scene: from traditional Spain\, Greek\, Italian\, Russian and Middle Eastern songs to the vital vibes of jazz manouche and rockabilly.\nBGKO are Sandra Sangiao (voice\, Spain )\, Mattia Schirosa (accordion\, Italy)\, Julien Chanal (guitar\, France)\, Ivan Kovačević (double bass\, Serbia)\, Stelios Togias (percussion\, Greece)\, Dani Carbonell (clarinet\, Spain) and Oleksandr Sora (violin\, Ukraine)
URL:https://toblink.com/event/barcelona-gipsy-balkan-orchestra-toronto/
LOCATION:MacMillan Theatre\, Queens Ave 80\, Toronto\, Ontario\, Canada
CATEGORIES:Concert
ATTACH;FMTTYPE=image/jpeg:https://toblink.com/wp-content/uploads/2018/07/BGKO-foto-cartel-2-1540x950.jpg
ORGANIZER;CN="studio 011":MAILTO:dragang07@gmail.com
END:VEVENT
BEGIN:VEVENT
DTSTART;TZID=America/Toronto:20180922T200000
DTEND;TZID=America/Toronto:20180922T213000
DTSTAMP:20260415T220427
CREATED:20180801T152659Z
LAST-MODIFIED:20180801T153805Z
UID:1733-1537646400-1537651800@toblink.com
SUMMARY:VOZ - ZVEZDARA TEATAR
DESCRIPTION:SYSTEM ENTERTAINMENT\nsa ponosom predstavlja\nVOZ \nVOJA BRAJOVIC \, SERGEJ TRIFUNOVIC\nTORONTO\nSubota 22.09.2018. u 20.00h\nNedelja 23.09.2018. u 20.00h\nIsabel Bader Theatre\n93 Charles st. W.\, Toronto \n  \nCena karte / ticket price – 45$40$ – specijalni popust za ljubitelje pozorišta\, samo do 19. Avgusta 2018! \nPlease present your printed confirmation email from PayPal for picking up tix at the control post. Tickets are non-refundable.\nKupljene karte se preuzimaju na blagajni pre početka predstave i ne mogu se vratiti. \nEKIPA PREDSTAVE \nPisac:Kormak Makarti \nUloge:Voja Brajović \, Sergej Trifunović \nPrevod:Milica i Branislav Mihajlović \nRežija i adaptacija: Voja Brajović \nAdaptacija scene i kostima: Jelisaveta Tatić Čuturilo \nOrganizator:Dragiša Ćurguz \nO PREDSTAVI \nVoja Brajović\nReč reditelja \nInspirisan delom Kormaka Makartija\, jedino što želim ovom predstavom je da izazovem kritički odnos i svest o tome kuda ovaj svet ide. I naravno\, pre svega\, čovekoljublje\, koje ima veliku moć da spreči propast civilizacije. Po mom mišljenju\, najbolji lek za čoveka i njegovo najjače oružje je kultura\, čiji su najvažniji segmenti umetnost i reč. \nSergej Trifunović\nReč glumca \nU početku svega\, beše reč. Reč\, istovremeno najskuplja i najjeftinija stvar. Ništa se ne bagateliše tako olako kao reč. Pokušavam da napišem nešto za program\, ali mi se u lice ceri zaludnost tog čina. Da se išta smisleno da napisati\, scenska postavka ovog dela\, bila bi besmislena. Ovo nije pozorišna predstava. Ovo je nešto sa čime ćemo se svi mi\, sudarati do kraja života\, tog voza bez konduktera\, kome se početna\, krajnja i usputne stanice\, ne mogu znati. \nNAGRADE \nPredstava\nNagrada publike „Dalibor Foretić“ (ocena 4\,76)\, 23. Međunarodni Festival malih scena\, Rijeka\, 2016.\nNagrada publike za najbolju predstavu\, 2. MIT festival\, Cetinje\, 2016.\nGran pri za najbolji partnerski odnos na sceni\, Međunarodni festival u Nikšiću\, 2016.\nVoja Brajović\nNagrada „Žan Marolt“ za najboljeg glumca\, 1. Dani Jurislava Korenića\, Sarajevo\, 2016.\nNagrada za glumca večeri\, 5. Festival prvoizvedbenih predstava\, Aleksinac\, 2016.\nSergej Trifunović\nNagrada za najbolju mušku ulogu\, 5. Festival prvoizvedbenih predstava\, Aleksinac\, 2016.
URL:https://toblink.com/event/voz-zvezdara-teatar/
LOCATION:Isabel Bader Theatre\, 93 Charles Street West\, Toronto\, Ontario\, Canada
CATEGORIES:Theatar
ATTACH;FMTTYPE=image/jpeg:https://toblink.com/wp-content/uploads/2018/08/voz-600-plakat.jpg
ORGANIZER;CN="systementertainment.com":MAILTO:info@systementertainment.com
END:VEVENT
BEGIN:VEVENT
DTSTART;TZID=America/Toronto:20180923T200000
DTEND;TZID=America/Toronto:20180923T213000
DTSTAMP:20260415T220427
CREATED:20180801T152659Z
LAST-MODIFIED:20180801T153806Z
UID:1736-1537732800-1537738200@toblink.com
SUMMARY:VOZ - ZVEZDARA TEATAR
DESCRIPTION:SYSTEM ENTERTAINMENT\nsa ponosom predstavlja\nVOZ \nVOJA BRAJOVIC \, SERGEJ TRIFUNOVIC\nTORONTO\nSubota 22.09.2018. u 20.00h\nNedelja 23.09.2018. u 20.00h\nIsabel Bader Theatre\n93 Charles st. W.\, Toronto \n  \nCena karte / ticket price – 45$40$ – specijalni popust za ljubitelje pozorišta\, samo do 19. Avgusta 2018! \nPlease present your printed confirmation email from PayPal for picking up tix at the control post. Tickets are non-refundable.\nKupljene karte se preuzimaju na blagajni pre početka predstave i ne mogu se vratiti. \nEKIPA PREDSTAVE \nPisac:Kormak Makarti \nUloge:Voja Brajović \, Sergej Trifunović \nPrevod:Milica i Branislav Mihajlović \nRežija i adaptacija: Voja Brajović \nAdaptacija scene i kostima: Jelisaveta Tatić Čuturilo \nOrganizator:Dragiša Ćurguz \nO PREDSTAVI \nVoja Brajović\nReč reditelja \nInspirisan delom Kormaka Makartija\, jedino što želim ovom predstavom je da izazovem kritički odnos i svest o tome kuda ovaj svet ide. I naravno\, pre svega\, čovekoljublje\, koje ima veliku moć da spreči propast civilizacije. Po mom mišljenju\, najbolji lek za čoveka i njegovo najjače oružje je kultura\, čiji su najvažniji segmenti umetnost i reč. \nSergej Trifunović\nReč glumca \nU početku svega\, beše reč. Reč\, istovremeno najskuplja i najjeftinija stvar. Ništa se ne bagateliše tako olako kao reč. Pokušavam da napišem nešto za program\, ali mi se u lice ceri zaludnost tog čina. Da se išta smisleno da napisati\, scenska postavka ovog dela\, bila bi besmislena. Ovo nije pozorišna predstava. Ovo je nešto sa čime ćemo se svi mi\, sudarati do kraja života\, tog voza bez konduktera\, kome se početna\, krajnja i usputne stanice\, ne mogu znati. \nNAGRADE \nPredstava\nNagrada publike „Dalibor Foretić“ (ocena 4\,76)\, 23. Međunarodni Festival malih scena\, Rijeka\, 2016.\nNagrada publike za najbolju predstavu\, 2. MIT festival\, Cetinje\, 2016.\nGran pri za najbolji partnerski odnos na sceni\, Međunarodni festival u Nikšiću\, 2016.\nVoja Brajović\nNagrada „Žan Marolt“ za najboljeg glumca\, 1. Dani Jurislava Korenića\, Sarajevo\, 2016.\nNagrada za glumca večeri\, 5. Festival prvoizvedbenih predstava\, Aleksinac\, 2016.\nSergej Trifunović\nNagrada za najbolju mušku ulogu\, 5. Festival prvoizvedbenih predstava\, Aleksinac\, 2016.
URL:https://toblink.com/event/voz-zvezdara-teatar-2018-09-23/
LOCATION:Isabel Bader Theatre\, 93 Charles Street West\, Toronto\, Ontario\, Canada
CATEGORIES:Theatar
ATTACH;FMTTYPE=image/jpeg:https://toblink.com/wp-content/uploads/2018/08/voz-600-plakat.jpg
ORGANIZER;CN="systementertainment.com":MAILTO:info@systementertainment.com
END:VEVENT
BEGIN:VEVENT
DTSTART;TZID=America/Halifax:20180925T200000
DTEND;TZID=America/Halifax:20180925T213000
DTSTAMP:20260415T220427
CREATED:20180801T153411Z
LAST-MODIFIED:20180801T153606Z
UID:1737-1537905600-1537911000@toblink.com
SUMMARY:VOZ – ZVEZDARA TEATAR
DESCRIPTION:SYSTEM ENTERTAINMENT\nsa ponosom predstavlja\nVOZ\nKITCHENER\nUtorak 25.09.2018 .\nThe Registry Theatre\n122 Frederick st.\nKitchener \nCena karte / ticket price – 45$40$ – specijalni popust za ljubitelje pozorišta\, samo do 19. Avgusta 2018! \nPlease present your printed confirmation email from PayPal for picking up tix at the control post. Tickets are non-refundable.\nKupljene karte se preuzimaju na blagajni pre početka predstave i ne mogu se vratiti. \nEKIPA PREDSTAVE \nPisac:Kormak Makarti \nUloge:Voja Brajović \, Sergej Trifunović \nPrevod:Milica i Branislav Mihajlović \nRežija i adaptacija: Voja Brajović \nAdaptacija scene i kostima: Jelisaveta Tatić Čuturilo \nOrganizator:Dragiša Ćurguz \nO PREDSTAVI \nVoja Brajović\nReč reditelja \nInspirisan delom Kormaka Makartija\, jedino što želim ovom predstavom je da izazovem kritički odnos i svest o tome kuda ovaj svet ide. I naravno\, pre svega\, čovekoljublje\, koje ima veliku moć da spreči propast civilizacije. Po mom mišljenju\, najbolji lek za čoveka i njegovo najjače oružje je kultura\, čiji su najvažniji segmenti umetnost i reč. \nSergej Trifunović\nReč glumca \nU početku svega\, beše reč. Reč\, istovremeno najskuplja i najjeftinija stvar. Ništa se ne bagateliše tako olako kao reč. Pokušavam da napišem nešto za program\, ali mi se u lice ceri zaludnost tog čina. Da se išta smisleno da napisati\, scenska postavka ovog dela\, bila bi besmislena. Ovo nije pozorišna predstava. Ovo je nešto sa čime ćemo se svi mi\, sudarati do kraja života\, tog voza bez konduktera\, kome se početna\, krajnja i usputne stanice\, ne mogu znati. \nNAGRADE \nPredstava\nNagrada publike „Dalibor Foretić“ (ocena 4\,76)\, 23. Međunarodni Festival malih scena\, Rijeka\, 2016.\nNagrada publike za najbolju predstavu\, 2. MIT festival\, Cetinje\, 2016.\nGran pri za najbolji partnerski odnos na sceni\, Međunarodni festival u Nikšiću\, 2016.\nVoja Brajović\nNagrada „Žan Marolt“ za najboljeg glumca\, 1. Dani Jurislava Korenića\, Sarajevo\, 2016.\nNagrada za glumca večeri\, 5. Festival prvoizvedbenih predstava\, Aleksinac\, 2016.\nSergej Trifunović\nNagrada za najbolju mušku ulogu\, 5. Festival prvoizvedbenih predstava\, Aleksinac\, 2016.
URL:https://toblink.com/event/voz-zvezdara-teatar-2/
LOCATION:The Registry Theatre\, 122 Frederick st.\, Kitchener\, Ontario\, Canada
CATEGORIES:Theatar
ATTACH;FMTTYPE=image/jpeg:https://toblink.com/wp-content/uploads/2018/08/voz-600-plakat.jpg
ORGANIZER;CN="systementertainment.com":MAILTO:info@systementertainment.com
END:VEVENT
BEGIN:VEVENT
DTSTART;TZID=America/Halifax:20180929T183000
DTEND;TZID=America/Halifax:20180929T213000
DTSTAMP:20260415T220427
CREATED:20180829T141205Z
LAST-MODIFIED:20180829T141450Z
UID:1825-1538245800-1538256600@toblink.com
SUMMARY:A WWI Story\, The Heriot Boys/Priča iz Prvog Svetskog Rata\, Heriotovi dečaci
DESCRIPTION:Serbian Heritage Museum of Windsor is pleased to host\, In commemoration of the 100th anniversary of the end of the Great War\, an exhibit honouring the lives of 27 Serbian boys who were given refuge at George Heriot’s School in Edinburgh\, Scotland\, following the Great Serbian Retreat of 1915. The exhibit demonstrates the resiliency of the children\, their educational achievements and athletic success. Please join us at the Gala opening of our Exhibit\, “A WWI Story\, The Heriot Boys”\, on Saturday\, September 29\, 2018 at 6:30pm. The event will be held at the Serbian Centre\, 6770 Tecumseh Rd.\, E. Everyone is welcome. \nПоводом стогодишњице завршетка Првог светског рата\, ова изложба обележава животе 27 дечака српског порекла који су\, након повлачења 1915. године\, смештени у школи Џорџа Хериота у Единбургу. Овом изложбом желимо да прикажемо све кроз шта су ови дечаци прошли\, и упркос томе\, све успехе који су постигли у образовним и спортским сферама. \n \nhttps://www.youtube.com/watch?v=1Cai2YXCH84 \nTickets: info@serbianheritagemuseum.com\nTel 519-944-4884
URL:https://toblink.com/event/a-wwi-story-the-heriot-boys-prica-iz-prvog-svetskog-rata-heriotovi-decaci/
LOCATION:Serbian Heritage Museum\, 6770 Tecumseh Rd.\, E.\, Windsor\, Ontario\, N8T 1E6\, Canada
ATTACH;FMTTYPE=image/jpeg:https://toblink.com/wp-content/uploads/2018/08/POSTER-Heriot-Boys-Exhibit-Serbian.jpg
ORGANIZER;CN="Serbian Herigate Museum":MAILTO:info@serbianheritagemuseum.com
END:VEVENT
BEGIN:VEVENT
DTSTART;TZID=America/Halifax:20180929T200000
DTEND;TZID=America/Halifax:20180929T220000
DTSTAMP:20260415T220427
CREATED:20180827T160603Z
LAST-MODIFIED:20180827T160603Z
UID:1819-1538251200-1538258400@toblink.com
SUMMARY:ART FOR LIFE - NEDA LAKETIĆ ŠOĆ
DESCRIPTION:ART FOR LIFE – NEDA LAKETIĆ ŠOĆ \n29. Septembar\, 2018 \nSRPSKA NACIONALNA AKADEMIJA  U KANADI  \n2381 Dundas Street West\,  \nToronto\, Ontario M6P 1X2  \nCanada \nhttp://nedascreation.weebly.com/about-me.html
URL:https://toblink.com/event/art-for-life-neda-laketic-soc/
LOCATION:СРПСКА НАЦИОНАЛНА АКАДЕМИЈA\, 2381 Dundas St W.\, Toronto\, Ontario\, Canada
CATEGORIES:Art
ATTACH;FMTTYPE=image/jpeg:https://toblink.com/wp-content/uploads/2018/08/space-turtles-swimming-on-the-gravitational-waves_orig.jpg
END:VEVENT
BEGIN:VEVENT
DTSTART;TZID=America/Halifax:20180929T203000
DTEND;TZID=America/Halifax:20180929T210000
DTSTAMP:20260415T220427
CREATED:20180824T161712Z
LAST-MODIFIED:20180829T142234Z
UID:1796-1538253000-1538254800@toblink.com
SUMMARY:Pozorišna predstava - Ženidba\, Teatar 10 s Lukačem
DESCRIPTION:Za ljubitelje pozorišta koji još nisu videli predstavu ŽENIDBA\, ili žele da se ponovo dobro nasmeju\, imaće priliku da je gledaju 29. septembra u sali crkve Sv. Dimitrija u Winsdor-u \nKupovina karata:\nS&W\, Marinas\, Dedas\, Cao Cafe\ni u crkvenoj sali za barom.\nCENA KARTE $25 \nŽENIDBA\nTeatar 10 s’ Lukačem\nTekst: Nikolaj Vasiljevič Gogolj\nAdaptacija i režija: Aleksandar Lukač \nZa Gogolja\, jednog od najčuvenijih ruskih pisaca\, kažu da je smisao dovodio do besmisla i ovaj tekst je on nazvao “neverovatni događaj u dva čina”. \n“Ženidba” je adaptacija Gogoljeve komedije u kojoj se preko muško-ženskih odnosa na izuzetno duhovit način ismeva malograđanština. “…Predstava je groteskna kritika formalizma u svim sferama života\, koji je najtragičniji kada se odvija u sferi ljudske intime…“\nBračna veza i ženiba postaju glavni statusni simbol i društvena obaveza samo da bi se ispunila tuđa očekivanja. U nastojanju da zadovolje formu\, zaboravljanju da žive. \nČekaju vas: Gordana Laković\, Ksenija Jovšić\, Jelena Žikić\, Sanja Šekularac\, Saša Radovanović\, Dragan Stupar\, Mario Bilušić\, Milan Vasić\, Milan Veselinović i Aleksandar Lukač.
URL:https://toblink.com/event/pozorisna-predstava-zenidba-teatar-10-s-lukacem/
LOCATION:St. Dimitrije Serbian Orthodox Church\, 2690 Seminole Street\,\, Windsor\, Ontario\, N8Y 1X7\, Canada
CATEGORIES:Komedija,Theatar
ATTACH;FMTTYPE=image/jpeg:https://toblink.com/wp-content/uploads/2018/08/40269659_1323985957739063_2095300379469152256_n.jpg
END:VEVENT
BEGIN:VEVENT
DTSTART;TZID=America/Halifax:20180930T080000
DTEND;TZID=America/Halifax:20180930T170000
DTSTAMP:20260415T220427
CREATED:20180801T170025Z
LAST-MODIFIED:20180801T170025Z
UID:1781-1538294400-1538326800@toblink.com
SUMMARY:Јубиларна прослава СКП ДМ
DESCRIPTION:TBA
URL:https://toblink.com/event/%d1%98%d1%83%d0%b1%d0%b8%d0%bb%d0%b0%d1%80%d0%bd%d0%b0-%d0%bf%d1%80%d0%be%d1%81%d0%bb%d0%b0%d0%b2%d0%b0-%d1%81%d0%ba%d0%bf-%d0%b4%d0%bc/
LOCATION:Serbian Centre\, Mississauga\, 2520 Dixie Road\, Mississauga\, Ontario\, Canada
CATEGORIES:Cultural event
ORGANIZER;CN="%D0%A3%D0%94%D0%A0%D0%A3%D0%96%D0%95%D0%8A%D0%95 %D0%9F%D0%98%D0%A1%D0%90%D0%A6%D0%90 %E2%80%9D%D0%94%D0%95%D0%A1%D0%90%D0%9D%D0%9A%D0%90 %D0%9C%D0%90%D0%9A%D0%A1%D0%98%D0%9C%D0%9E%D0%92%D0%98%D0%8B%E2%80%9D":MAILTO:desankamaksimovictoronto@gmail.com
END:VEVENT
END:VCALENDAR