BEGIN:VCALENDAR
VERSION:2.0
PRODID:-//TOblink Events - ECPv6.3.3.1//NONSGML v1.0//EN
CALSCALE:GREGORIAN
METHOD:PUBLISH
X-WR-CALNAME:TOblink Events
X-ORIGINAL-URL:https://toblink.com
X-WR-CALDESC:Events for TOblink Events
REFRESH-INTERVAL;VALUE=DURATION:PT1H
X-Robots-Tag:noindex
X-PUBLISHED-TTL:PT1H
BEGIN:VTIMEZONE
TZID:America/Halifax
BEGIN:DAYLIGHT
TZOFFSETFROM:-0400
TZOFFSETTO:-0300
TZNAME:ADT
DTSTART:20180311T060000
END:DAYLIGHT
BEGIN:STANDARD
TZOFFSETFROM:-0300
TZOFFSETTO:-0400
TZNAME:AST
DTSTART:20181104T050000
END:STANDARD
END:VTIMEZONE
BEGIN:VEVENT
DTSTART;TZID=America/Halifax:20180701T150000
DTEND;TZID=America/Halifax:20180701T170000
DTSTAMP:20260415T043921
CREATED:20180629T171511Z
LAST-MODIFIED:20180629T173210Z
UID:1649-1530457200-1530464400@toblink.com
SUMMARY:Дани Канаде - Dundas Square
DESCRIPTION:ЗВАННИЧНИ ПРОГРАМ ПОСЕТЕ\nГЕНЕРАЛНОМ КОНЗУЛАТУ РЕПУБЛИКЕ СРБИЈЕ\nИ СРПСКОЈ НАЦИОНАЛНОЈ АКАДЕМИЈИ КАНАДЕ У ТОРОНТУ\,\nГЕНЕРАЛНОГ СЕКРЕТАРАКУЛТУРНО-ПРОСВЕТНЕ ЗАЈЕДНИЦЕ\nРЕПУБЛИКЕ СРБИЈЕ ЖИВОРАДА АЈДАЧИЋА \n27. јун 2018. долазак у Торонто; \n28. јун 2018. 19.30. ч. – учешће на Видовданској академији\,\nса Владиком канадским Митрофаном\, видовданско обраћање; Галерија СНА\, 2381 Dundas St. W. Торонто \n01. јул 2018. 15.00 ч. – присуство наступу Академије српске националне игре „Мирослав Бата Марчетић“ у оквиру свечаности поводом Дана Канаде; Dundas Square \n03. јул 2018. 19.30 ч. додела признања Културно-просветне заједнице Србије Жарку Брестовцу и Српској националној академији Канаде у Торонту; Генерални конзулат Републике Србије\, 40 Eglinton Ave. E. #701 \n04. јул 2018. 19.30. ч. сусрет са аутором\, представљање књиге Живорада Ајдачића „Културна политика у транзицији“; Галерија СНА\, 2381 Dundas St. W. Торонто \nСВИ СТЕ ДОБРОДОШЛИ НА СВЕ ДОГАЂАЈЕ!
URL:https://toblink.com/event/%d0%b4%d0%b0%d0%bd%d0%b0-%d0%ba%d0%b0%d0%bd%d0%b0%d0%b4%d0%b5-dundas-square/
LOCATION:Dundas Square
ATTACH;FMTTYPE=image/jpeg:https://toblink.com/wp-content/uploads/2018/06/SNA-1.jpg
END:VEVENT
BEGIN:VEVENT
DTSTART;TZID=America/Halifax:20180703T193000
DTEND;TZID=America/Halifax:20180703T210000
DTSTAMP:20260415T043921
CREATED:20180629T171511Z
LAST-MODIFIED:20180629T171511Z
UID:1653-1530646200-1530651600@toblink.com
SUMMARY:Додела признања Културно-просветне заједнице Србије
DESCRIPTION:ЗВАННИЧНИ ПРОГРАМ ПОСЕТЕ\nГЕНЕРАЛНОМ КОНЗУЛАТУ РЕПУБЛИКЕ СРБИЈЕ\nИ СРПСКОЈ НАЦИОНАЛНОЈ АКАДЕМИЈИ КАНАДЕ У ТОРОНТУ\,\nГЕНЕРАЛНОГ СЕКРЕТАРАКУЛТУРНО-ПРОСВЕТНЕ ЗАЈЕДНИЦЕ\nРЕПУБЛИКЕ СРБИЈЕ ЖИВОРАДА АЈДАЧИЋА \n27. јун 2018. долазак у Торонто; \n28. јун 2018. 19.30. ч. – учешће на Видовданској академији\,\nса Владиком канадским Митрофаном\, видовданско обраћање; Галерија СНА\, 2381 Dundas St. W. Торонто  \n01. јул 2018. 15.00 ч. – присуство наступу Академије српске националне игре „Мирослав Бата Марчетић“ у оквиру свечаности поводом Дана Канаде; Dundas Square  \n03. јул 2018. 19.30 ч. додела признања Културно-просветне заједнице Србије Жарку Брестовцу и Српској националној академији Канаде у Торонту; Генерални конзулат Републике Србије\, 40 Eglinton Ave. E. #701  \n04. јул 2018. 19.30. ч. сусрет са аутором\, представљање књиге Живорада Ајдачића „Културна политика у транзицији“; Галерија СНА\, 2381 Dundas St. W. Торонто \nСВИ СТЕ ДОБРОДОШЛИ НА СВЕ ДОГАЂАЈЕ!
URL:https://toblink.com/event/%d0%b4%d0%be%d0%b4%d0%b5%d0%bb%d0%b0-%d0%bf%d1%80%d0%b8%d0%b7%d0%bd%d0%b0%d1%9a%d0%b0-%d0%ba%d1%83%d0%bb%d1%82%d1%83%d1%80%d0%bd%d0%be-%d0%bf%d1%80%d0%be%d1%81%d0%b2%d0%b5%d1%82%d0%bd%d0%b5-%d0%b7/
LOCATION:GENERALNI KONZULAT TORONTO\, 40 Eglinton Ave. E. #701\, Toronto\, Ontario\, Canada
CATEGORIES:Community
ATTACH;FMTTYPE=image/jpeg:https://toblink.com/wp-content/uploads/2018/06/SNA-2.jpg
END:VEVENT
BEGIN:VEVENT
DTSTART;TZID=America/Halifax:20180704T193000
DTEND;TZID=America/Halifax:20180704T213000
DTSTAMP:20260415T043921
CREATED:20180629T171511Z
LAST-MODIFIED:20180629T171511Z
UID:1657-1530732600-1530739800@toblink.com
SUMMARY:Представљање књиге Живорада Ајдачића „Културна политика у транзицији“
DESCRIPTION:ЗВАННИЧНИ ПРОГРАМ ПОСЕТЕ\nГЕНЕРАЛНОМ КОНЗУЛАТУ РЕПУБЛИКЕ СРБИЈЕ\nИ СРПСКОЈ НАЦИОНАЛНОЈ АКАДЕМИЈИ КАНАДЕ У ТОРОНТУ\,\nГЕНЕРАЛНОГ СЕКРЕТАРАКУЛТУРНО-ПРОСВЕТНЕ ЗАЈЕДНИЦЕ\nРЕПУБЛИКЕ СРБИЈЕ ЖИВОРАДА АЈДАЧИЋА \n27. јун 2018. долазак у Торонто; \n28. јун 2018. 19.30. ч. – учешће на Видовданској академији\,\nса Владиком канадским Митрофаном\, видовданско обраћање; Галерија СНА\, 2381 Dundas St. W. Торонто  \n01. јул 2018. 15.00 ч. – присуство наступу Академије српске националне игре „Мирослав Бата Марчетић“ у оквиру свечаности поводом Дана Канаде; Dundas Square  \n03. јул 2018. 19.30 ч. додела признања Културно-просветне заједнице Србије Жарку Брестовцу и Српској националној академији Канаде у Торонту; Генерални конзулат Републике Србије\, 40 Eglinton Ave. E. #701  \n04. јул 2018. 19.30. ч. сусрет са аутором\, представљање књиге Живорада Ајдачића „Културна политика у транзицији“; Галерија СНА\, 2381 Dundas St. W. Торонто \nСВИ СТЕ ДОБРОДОШЛИ НА СВЕ ДОГАЂАЈЕ!
URL:https://toblink.com/event/%d0%bf%d1%80%d0%b5%d0%b4%d1%81%d1%82%d0%b0%d0%b2%d1%99%d0%b0%d1%9a%d0%b5-%d0%ba%d1%9a%d0%b8%d0%b3%d0%b5-%d0%b6%d0%b8%d0%b2%d0%be%d1%80%d0%b0%d0%b4%d0%b0-%d0%b0%d1%98%d0%b4%d0%b0%d1%87%d0%b8%d1%9b/
LOCATION:СРПСКА НАЦИОНАЛНА АКАДЕМИЈA\, 2381 Dundas St W.\, Toronto\, Ontario\, Canada
CATEGORIES:Book promotion
ATTACH;FMTTYPE=image/jpeg:https://toblink.com/wp-content/uploads/2018/06/SNA-3.jpg
END:VEVENT
BEGIN:VEVENT
DTSTART;TZID=America/Halifax:20180707T100000
DTEND;TZID=America/Halifax:20180707T130000
DTSTAMP:20260415T043921
CREATED:20180724T173124Z
LAST-MODIFIED:20180724T173124Z
UID:1678-1530957600-1530968400@toblink.com
SUMMARY:HUMANITARNA AKCIJA "JEDRIM ZA MALIŠANE"
DESCRIPTION:Uzivajte u panorami Toronta\, sa jedrenjaka Beaches Sailing skole.\nNaucite osnovne tehnike jedrenja ili samo opusteno uzivajte!\nSav prihod namenjen je za pomoc deci Malog sveta Kanade! \n$75 po osobi\, za 2-3 sata jedrenja\, sa SAIL Canada sertifikovanim instruktorom \n3-4 osobe u grupi\n26′ jedrilica \nDatumi: \nSubota\, 7. jul u 10:00 – popunjeno\nSreda\, 25. jul u18:30 – jedno mesto slobodno\nCetvrtak\, 26. jul u18:30 – 2 mesta\nSreda\, 1. avgust u18:30 – popunjeno\nSubota\, 11. avgust u 10:00 – popunjeno \nDa rezervisete vas termin i za dodatne informacije \nemail: info@malisvetkanada.org \n \n\nVeliko HVALA kapetanu Stefanu\, sertifikovanom instruktoru za jedrenje\, iz  Beaches Sailing skole\,\nza njegovu donaciju\, veliko srce i zelju da pomogne! \nhttp://beachessailing.ca/ \n \nJer najepše na svetu je dete\, kad se raduje…
URL:https://toblink.com/event/humanitarna-akcija-jedrim-za-malisane/
LOCATION:Toronto\, Lake Ontario\, Toronto\, Ontario\, Canada
CATEGORIES:Fundraising
ATTACH;FMTTYPE=image/jpeg:https://toblink.com/wp-content/uploads/2018/07/Mali-svet-jedrenje.jpg
ORGANIZER;CN="Mali svet Kanada":MAILTO:info@malisvetkanada.org
END:VEVENT
BEGIN:VEVENT
DTSTART;TZID=America/Halifax:20180714T100000
DTEND;TZID=America/Halifax:20180714T170000
DTSTAMP:20260415T043921
CREATED:20180629T171511Z
LAST-MODIFIED:20180629T171511Z
UID:1618-1531562400-1531587600@toblink.com
SUMMARY:Журка из блока / Канада - Žurka iz Bloka / Canada
DESCRIPTION:ЖУРКА ИЗ БЛОКА У КАНАДИ РОКА!!! \nБУРЛИНГТОН / TABLE 34 / 1455 Lakeshore Rd. East Burlington  \nСУБОТА / 14. ЈУЛ / 22ч \nНастављамо борбу за боље сутра са сјајном забавом код наших пријатеља у TABLE 34 RESTO BAR-y!!! \nХО Срби за Србе Канада позива све људе добре воље да дођу и подрже још једну акцију! \nБорба за социјално угрожене породице са 4 и више деце води се сваког дана\, на све начине\, широм света! \nЈош једном је ред дошао на Бурлингтон и Канаду да покажу да имају велико срце! \nВИДИМО СЕ НА ЖУРЦИ!!! \nБУДИ ДЕО ТРОЈКЕ ИЗ БЛОКА!!! \nwww.serbsforserbs.ca\n(289) 337-3344\nzigmisiak@mightytidybusiness.com \nŽURKA IZ BLOKA \nTable 34 – Resto Bar – 1455 Lakeshore Rd. Burlington\, ON \nSaturday\, July 14 – 10 pm \nSerbs for Serbs Canada invites you to join us for our inaugural Žurka iz Bloka in Canada. This is the latest initiative in our continued charity work in order to support multi-children Serbian families living in harsh socioeconomic conditions.  \nSee you at the Žurka (Party)! \nFor more information about Serbs for Serbs and how to donate\, please visit www.serbsforserbs.ca.
URL:https://toblink.com/event/%d0%b6%d1%83%d1%80%d0%ba%d0%b0-%d0%b8%d0%b7-%d0%b1%d0%bb%d0%be%d0%ba%d0%b0-%d0%ba%d0%b0%d0%bd%d0%b0%d0%b4%d0%b0-zurka-iz-bloka-canada/
LOCATION:TABLE 34\, 1455 Lakeshore Road\, Burlington\, Ontario\, L7S 2J1\, Canada
CATEGORIES:Fundraising
ATTACH;FMTTYPE=image/jpeg:https://toblink.com/wp-content/uploads/2018/06/Zurka-iz-bloka.jpg
END:VEVENT
BEGIN:VEVENT
DTSTART;TZID=America/Halifax:20180725T183000
DTEND;TZID=America/Halifax:20180725T213000
DTSTAMP:20260415T043921
CREATED:20180724T173124Z
LAST-MODIFIED:20180724T173124Z
UID:1680-1532543400-1532554200@toblink.com
SUMMARY:HUMANITARNA AKCIJA "JEDRIM ZA MALIŠANE"
DESCRIPTION:Uzivajte u panorami Toronta\, sa jedrenjaka Beaches Sailing skole.\nNaucite osnovne tehnike jedrenja ili samo opusteno uzivajte!\nSav prihod namenjen je za pomoc deci Malog sveta Kanade! \n$75 po osobi\, za 2-3 sata jedrenja\, sa SAIL Canada sertifikovanim instruktorom \n3-4 osobe u grupi\n26′ jedrilica \nDatumi: \nSubota\, 7. jul u 10:00 – popunjeno\nSreda\, 25. jul u18:30 – jedno mesto slobodno\nCetvrtak\, 26. jul u18:30 – 2 mesta\nSreda\, 1. avgust u18:30 – popunjeno\nSubota\, 11. avgust u 10:00 – popunjeno \nDa rezervisete vas termin i za dodatne informacije \nemail: info@malisvetkanada.org \n \n\nVeliko HVALA kapetanu Stefanu\, sertifikovanom instruktoru za jedrenje\, iz  Beaches Sailing skole\,\nza njegovu donaciju\, veliko srce i zelju da pomogne! \nhttp://beachessailing.ca/ \n \nJer najepše na svetu je dete\, kad se raduje…
URL:https://toblink.com/event/humanitarna-akcija-jedrim-za-malisane-2018-07-25/
LOCATION:Toronto\, Lake Ontario\, Toronto\, Ontario\, Canada
CATEGORIES:Fundraising
ATTACH;FMTTYPE=image/jpeg:https://toblink.com/wp-content/uploads/2018/07/Mali-svet-jedrenje.jpg
ORGANIZER;CN="Mali svet Kanada":MAILTO:info@malisvetkanada.org
END:VEVENT
BEGIN:VEVENT
DTSTART;TZID=America/Halifax:20180727T183000
DTEND;TZID=America/Halifax:20180727T213000
DTSTAMP:20260415T043921
CREATED:20180724T173124Z
LAST-MODIFIED:20180724T173124Z
UID:1681-1532716200-1532727000@toblink.com
SUMMARY:HUMANITARNA AKCIJA "JEDRIM ZA MALIŠANE"
DESCRIPTION:Uzivajte u panorami Toronta\, sa jedrenjaka Beaches Sailing skole.\nNaucite osnovne tehnike jedrenja ili samo opusteno uzivajte!\nSav prihod namenjen je za pomoc deci Malog sveta Kanade! \n$75 po osobi\, za 2-3 sata jedrenja\, sa SAIL Canada sertifikovanim instruktorom \n3-4 osobe u grupi\n26′ jedrilica \nDatumi: \nSubota\, 7. jul u 10:00 – popunjeno\nSreda\, 25. jul u18:30 – jedno mesto slobodno\nCetvrtak\, 26. jul u18:30 – 2 mesta\nSreda\, 1. avgust u18:30 – popunjeno\nSubota\, 11. avgust u 10:00 – popunjeno \nDa rezervisete vas termin i za dodatne informacije \nemail: info@malisvetkanada.org \n \n\nVeliko HVALA kapetanu Stefanu\, sertifikovanom instruktoru za jedrenje\, iz  Beaches Sailing skole\,\nza njegovu donaciju\, veliko srce i zelju da pomogne! \nhttp://beachessailing.ca/ \n \nJer najepše na svetu je dete\, kad se raduje…
URL:https://toblink.com/event/humanitarna-akcija-jedrim-za-malisane-2018-07-27/
LOCATION:Toronto\, Lake Ontario\, Toronto\, Ontario\, Canada
CATEGORIES:Fundraising
ATTACH;FMTTYPE=image/jpeg:https://toblink.com/wp-content/uploads/2018/07/Mali-svet-jedrenje.jpg
ORGANIZER;CN="Mali svet Kanada":MAILTO:info@malisvetkanada.org
END:VEVENT
END:VCALENDAR