BEGIN:VCALENDAR
VERSION:2.0
PRODID:-//TOblink Events - ECPv6.3.3.1//NONSGML v1.0//EN
CALSCALE:GREGORIAN
METHOD:PUBLISH
X-WR-CALNAME:TOblink Events
X-ORIGINAL-URL:https://toblink.com
X-WR-CALDESC:Events for TOblink Events
REFRESH-INTERVAL;VALUE=DURATION:PT1H
X-Robots-Tag:noindex
X-PUBLISHED-TTL:PT1H
BEGIN:VTIMEZONE

END:VTIMEZONE
BEGIN:VEVENT
DTSTART;TZID=America/Halifax:20180204T030000
DTEND;TZID=America/Halifax:20180204T170000
DTSTAMP:20260422T203641
CREATED:20180226T194652Z
LAST-MODIFIED:20180228T184121Z
UID:1418-1517713200-1517763600@toblink.com
SUMMARY:БЛАГОДАРНА СРБИЈО\, ПУНА СИ ЉУБАВИ
DESCRIPTION:Beautiful presentation of Serbian heritage and culture. Aside from Serbian dignitaries and celebrities\, there will be many Canadians in attendance. \nThis event presents Serbs in a positive light and builds a solid\, traditional and annual event of our Serbian community in Canada. \nProgram participants: \nJadranka Jovanovic \nOliver Njego \nNikola Rackov \nOplenac \nHor Kir Stefan Srbin \nAkademija Bata Marcetic \nКарте се могу купити у Храму Свих Срба Светитеља у Мисисаги на штанду за свеће или у току богослужења. \nЗа информације позовите 705 507 4802 или ioannis23@hotmail.com \nwww.sabornik.com
URL:https://toblink.com/event/%d0%b1%d0%bb%d0%b0%d0%b3%d0%be%d0%b4%d0%b0%d1%80%d0%bd%d0%b0-%d1%81%d1%80%d0%b1%d0%b8%d1%98%d0%be-%d0%bf%d1%83%d0%bd%d0%b0-%d1%81%d0%b8-%d1%99%d1%83%d0%b1%d0%b0%d0%b2%d0%b8/
LOCATION:Isabel Bader Theatre\, 93 Charles Street West\, Toronto\, Ontario\, Canada
CATEGORIES:Cultural event
END:VEVENT
BEGIN:VEVENT
DTSTART;TZID=America/Halifax:20260422T203641
DTEND;TZID=America/Halifax:20180324T210000
DTSTAMP:20260422T203641
CREATED:20180313T205521Z
LAST-MODIFIED:20180313T205521Z
UID:1491-0-1521925200@toblink.com
SUMMARY:
DESCRIPTION:  \nЖаба/ The Frog\, by Emir Jukić\, Bosnian Film
URL:https://toblink.com/event/1491/
LOCATION:REGENT THEATRE\, 551 Mount Pleasant Road\, Toronto\, Ontario\, M4S 2M5\, Canada
CATEGORIES:Film
END:VEVENT
END:VCALENDAR