BEGIN:VCALENDAR
VERSION:2.0
PRODID:-//TOblink Events - ECPv6.3.3.1//NONSGML v1.0//EN
CALSCALE:GREGORIAN
METHOD:PUBLISH
X-WR-CALNAME:TOblink Events
X-ORIGINAL-URL:https://toblink.com
X-WR-CALDESC:Events for TOblink Events
REFRESH-INTERVAL;VALUE=DURATION:PT1H
X-Robots-Tag:noindex
X-PUBLISHED-TTL:PT1H
BEGIN:VTIMEZONE
TZID:America/Halifax
BEGIN:DAYLIGHT
TZOFFSETFROM:-0400
TZOFFSETTO:-0300
TZNAME:ADT
DTSTART:20190310T060000
END:DAYLIGHT
BEGIN:STANDARD
TZOFFSETFROM:-0300
TZOFFSETTO:-0400
TZNAME:AST
DTSTART:20191103T050000
END:STANDARD
END:VTIMEZONE
BEGIN:VEVENT
DTSTART;TZID=America/Halifax:20190602T180000
DTEND;TZID=America/Halifax:20190602T210000
DTSTAMP:20260420T190540
CREATED:20180830T003548Z
LAST-MODIFIED:20180830T003548Z
UID:1853-1559498400-1559509200@toblink.com
SUMMARY:GODISNJI KONCERT - Academy of Serbian Folk Dancing
DESCRIPTION:GODISNJI KONCERT\nnedelja\, 2. jun 2019. u 18:00\nJohn Bassett Theatre\n(Metro Convention Centre)\n255 Front St W\, Toronto
URL:https://toblink.com/event/godisnji-koncert-academy-of-serbian-folk-dancing/
LOCATION:John Bassett Theatre\, 255 Front St W\,\, Toronto\, Ontario\, Canada
ATTACH;FMTTYPE=image/jpeg:https://toblink.com/wp-content/uploads/2018/08/Homepage-gore-2-1.jpg
ORGANIZER;CN="Academy of Serbian Folk Dancing - Miroslav Bata Marcetic":MAILTO:BATA@MARCETIC.COM
END:VEVENT
END:VCALENDAR