BEGIN:VCALENDAR
VERSION:2.0
PRODID:-//TOblink Events - ECPv6.3.3.1//NONSGML v1.0//EN
CALSCALE:GREGORIAN
METHOD:PUBLISH
X-WR-CALNAME:TOblink Events
X-ORIGINAL-URL:https://toblink.com
X-WR-CALDESC:Events for TOblink Events
REFRESH-INTERVAL;VALUE=DURATION:PT1H
X-Robots-Tag:noindex
X-PUBLISHED-TTL:PT1H
BEGIN:VTIMEZONE
TZID:America/Halifax
BEGIN:DAYLIGHT
TZOFFSETFROM:-0400
TZOFFSETTO:-0300
TZNAME:ADT
DTSTART:20190310T060000
END:DAYLIGHT
BEGIN:STANDARD
TZOFFSETFROM:-0300
TZOFFSETTO:-0400
TZNAME:AST
DTSTART:20191103T050000
END:STANDARD
END:VTIMEZONE
BEGIN:VEVENT
DTSTART;TZID=America/Halifax:20190601T200000
DTEND;TZID=America/Halifax:20190601T220000
DTSTAMP:20260420T190516
CREATED:20180918T144229Z
LAST-MODIFIED:20180920T161059Z
UID:1859-1559419200-1559426400@toblink.com
SUMMARY:Kir Stefan the Serb Choir 19th Annual Concert
DESCRIPTION:Under the baton and artistic direction of conductor Jasmina Vučurović\, Kir Stefan the Serb Choir celebrates its nineteenth concert season. The program for this concert\, as it has become the tradition\, includes both sacred and traditional music.
URL:https://toblink.com/event/19th-annual-concert-kir-stefan-srbin/
LOCATION:Trinity-St. Paul’s United Church\, 427 Bloor St W.\, Toronto\, ON\, M5S 1X7\, Canada
CATEGORIES:Concert
ATTACH;FMTTYPE=image/jpeg:https://toblink.com/wp-content/uploads/2018/09/Event.jpg
ORGANIZER;CN="Kir Stefan the Serb Choir":MAILTO:kirstefantheserb@gmail.com
END:VEVENT
END:VCALENDAR