BEGIN:VCALENDAR
VERSION:2.0
PRODID:-//TOblink Events - ECPv6.3.3.1//NONSGML v1.0//EN
CALSCALE:GREGORIAN
METHOD:PUBLISH
X-ORIGINAL-URL:https://toblink.com
X-WR-CALDESC:Events for TOblink Events
REFRESH-INTERVAL;VALUE=DURATION:PT1H
X-Robots-Tag:noindex
X-PUBLISHED-TTL:PT1H
BEGIN:VTIMEZONE
TZID:America/Halifax
BEGIN:DAYLIGHT
TZOFFSETFROM:-0400
TZOFFSETTO:-0300
TZNAME:ADT
DTSTART:20180311T060000
END:DAYLIGHT
BEGIN:STANDARD
TZOFFSETFROM:-0300
TZOFFSETTO:-0400
TZNAME:AST
DTSTART:20181104T050000
END:STANDARD
END:VTIMEZONE
BEGIN:VEVENT
DTSTART;TZID=America/Halifax:20181209T180000
DTEND;TZID=America/Halifax:20181209T210000
DTSTAMP:20260420T204524
CREATED:20180830T002614Z
LAST-MODIFIED:20180830T002614Z
UID:1846-1544378400-1544389200@toblink.com
SUMMARY:CHARM OF SONG AND DANCE - AKADEMIJA BATA MARČETIĆ
DESCRIPTION:CHARM OF SONG AND DANCE\nSarm pesme i igre\nnedelja\, 9. decembar 2018. u 18:00\nJohn Bassett Theatre\n(Metro Convention Centre)\n255 Front St W\, Toronto
URL:https://toblink.com/event/charm-of-song-and-dance-akademija-bata-marcetic/
LOCATION:John Bassett Theatre\, 255 Front St W\,\, Toronto\, Ontario\, Canada
ATTACH;FMTTYPE=image/jpeg:https://toblink.com/wp-content/uploads/2018/08/Homepage-gore-2.jpg
ORGANIZER;CN="Academy of Serbian Folk Dancing - Miroslav Bata Marcetic":MAILTO:BATA@MARCETIC.COM
END:VEVENT
END:VCALENDAR