BEGIN:VCALENDAR
VERSION:2.0
PRODID:-//TOblink Events - ECPv6.3.3.1//NONSGML v1.0//EN
CALSCALE:GREGORIAN
METHOD:PUBLISH
X-ORIGINAL-URL:https://toblink.com
X-WR-CALDESC:Events for TOblink Events
REFRESH-INTERVAL;VALUE=DURATION:PT1H
X-Robots-Tag:noindex
X-PUBLISHED-TTL:PT1H
BEGIN:VTIMEZONE
TZID:America/Halifax
BEGIN:DAYLIGHT
TZOFFSETFROM:-0400
TZOFFSETTO:-0300
TZNAME:ADT
DTSTART:20180311T060000
END:DAYLIGHT
BEGIN:STANDARD
TZOFFSETFROM:-0300
TZOFFSETTO:-0400
TZNAME:AST
DTSTART:20181104T050000
END:STANDARD
END:VTIMEZONE
BEGIN:VEVENT
DTSTART;TZID=America/Halifax:20181123T183000
DTEND;TZID=America/Halifax:20181123T220000
DTSTAMP:20260417T114504
CREATED:20180726T174643Z
LAST-MODIFIED:20181111T215758Z
UID:1974-1542997800-1543010400@toblink.com
SUMMARY:18th TORONTO SERBIAN FILM FESTIVAL
DESCRIPTION:Čet. 22. November\nSvečano otvaranje Festivala\nOmaž Mileni Dravić\n(1940-2018)\nRegent Theatre\nPetak\, 23. novembar 7:00pm\nSećanja sa Krfa\, Jasmina Vujnović Milošević\nKo to tamo peva\, Q&A Slobodan Šijan\nRegent Theatre \n9:30\nFilmska žurka “Za Beograd\, za Beograd ” – Fancy kafana\, učestvuju gosti Festivala \nSubota\, 23. novembar 6:00 pm\nPlava grobnica\, 100 godina od Prvog svetskog rata\, Jasmina Vujnović Milošević\nOkupacija u 26 slika\, Q&A Jasmina Vujnović Milošević i Lordan Zafranović’s\n9:30pm\nFilmska žurka “Cinema Tower “\nTema festivala: “Film i rat”\nUčestvuju: Slobodan Šijan\, Jasmina Vujnović Miloševič i Lordan Zafranović\nModerator: Nenad Stanković \nNedelja\nSanja Živković Marijina epizoda/ Maria’s Episode (in memoriam to Milena Dravić) 5pm\nTeret by Ognjen Gavonjić 5:30\nBoris Mitić: in Praise of Nothing (Narrator Igi Pop) 7:15 pm
URL:https://toblink.com/event/18th-toronto-serbian-film-festival-2018-11-23/
LOCATION:Ontario\, Canada
CATEGORIES:Film
ATTACH;FMTTYPE=image/jpeg:https://toblink.com/wp-content/uploads/2018/07/43952498_2132692830088599_518589933460389888_n.jpg
END:VEVENT
BEGIN:VEVENT
DTSTART;TZID=America/Halifax:20181123T200000
DTEND;TZID=America/Halifax:20181123T213000
DTSTAMP:20260417T114504
CREATED:20180801T165410Z
LAST-MODIFIED:20181111T220433Z
UID:1769-1543003200-1543008600@toblink.com
SUMMARY:♥♥KOMEDIJA: IGRAJUĆI ŽRTVU - Pozorište 10 s Lukačem
DESCRIPTION:Драги љубитељи позоришта\,\n\n\nТеатар 10 с Лукачем је поново с вама овог пута са комедијом ’’Играјући жртву’’ Владимира и Олега Пресњакова која представља својеврсну комбинацију Хармса\, Монти Пајтона\, а са друге стране руског дубокоумног\, емотивног наратива\, који је сличан Чехову.\n\nNovembar 16\, 17\, 23 i 30 u 8pm\nPapermill Theatre \n67 Pottery Rd. Toronto\n\nВЛАДИМИР И ОЛЕГ ПРЕСЊАКОВ\nБраћа Пресњаков (Владимир и Олег) спадају међу најзначајније и у свету најизвођеније савремене руске драмске писце. Они су истовремено писци\, сценаристи\, редитељи\, продуценти и често и глумци у својим комадима. Своје драмске текстове пишу у „четири руке”. Мајка им је из Ирана\, отац из Русије. Олег Пресњаков је рођен 1969\, а Владимир 1979. Обојица су завршила Уралски државни универзитет „Максим Горки“ у Сибиру. Владимир је магистар\, а Олег доктор филолошких наука. Дуго су предавали на истом Универзитету\, Олег теорију књижевности и филологију а Владимир теорију књижевности и психологију. Живе у Јекатеринбургу\, на Уралу\, граду у којем живи и Кољада. На Универзитету су основали омладинску театарску групу за продукцију експерименталних представа. У њиховим комадима постоји врло специфично коришћење језика и провлаче се теме из живота у пост-совјетској руској култури. Драме су им црно-хуморне\, горке\, уз духовит начин описивања савременог руског друштва. Од када им је одиграна прва драма у Москви\, постали су на неки начин најпознатији „руски позоришни бренд”. Драме им се изводе у многим европским и светским позориштима. Светску славу су стекли драмом Тероризам а комад Играјући жртву\, чија је европска праизведба била 2003. године на Единбуршком фестивалу у извођењу Royal Court Theatеr-a из Лондона\, надмашио је Тероризам по броју извођења.\n\n Браћа Пресњаков\, у овом комаду говоре о томе да смо сви ми жртве овог времена и да је најбоље да то одмах по рођењу прихватимо. Свако бежање од чињенице да ћемо се у неком тренутку наћи на овај или на онај начин у позицији жртве\, бесмислено је. Комад се завршава речима оца:\n„…Па ти се играш а мислиш да си најпаметнији? Можда и онај\, од кога сви зависимо\, у кога се уздамо\, можда и он игра\, а? Сви нешто играју\, претварају се…тешко је бити оно што јеси\, много је ту одговорности…лакше је претварати се\, играти…ишчезнути…али\, онај што свој посао добро зна\, свестан је да ништа\, никад\, не ишчезава…“ А преводилац драме\, Новица Антић\, у интервјуу за „Вечерње новости“ на питање колико је комад близак нашој публици одговара:\n„И те како! Ми познајемо тај црни хумор. Увек је тамо где је апсурд и где је ситуација која нема своје рационалне поводе и узроке. Ми смо\, глобално\, у некаквом вакууму апсурда у ком се више не зна ко су жртве\, а ко су кривци\, ко пријатељи а ко непријатељи\, шта нас храни а шта убија…“\n \nЗа куповину или резервацију карата назовите:\n647-287-4727 Гоца Лаковић \n647-765-8857 Ксенија Јовшић
URL:https://toblink.com/event/pozoriste-10-s-lukacem-2018-11-23/
LOCATION:Papermill Theatre\, 67 Pottery Rd\,\, Toronto\, Ontario\, Canada
CATEGORIES:Komedija,Theatar
ATTACH;FMTTYPE=image/jpeg:https://toblink.com/wp-content/uploads/2018/08/44532953_2155805654430205_7266080819305775104_o.jpg
END:VEVENT
BEGIN:VEVENT
DTSTART;TZID=America/Halifax:20181123T200000
DTEND;TZID=America/Halifax:20181123T213000
DTSTAMP:20260417T114504
CREATED:20181107T171753Z
LAST-MODIFIED:20181107T171753Z
UID:1912-1543003200-1543008600@toblink.com
SUMMARY:ФИЛМ: ЈУЖНИ ВЕТАР
DESCRIPTION:Bioskopi gore ???\nViše od 300.000 oduševljenih gledalaca širom Srbije i Evrope! Rekordi su porušeni – nebo je granica\, a ovo nije kraj! \nJužni vetar nastavlja da plamti bioskopima! \n  \n \n  \nNajgledaniji film u domaćim bioskopima “Južni vetar” reditelja Miloša Avramovića\, postigao je u prvih sedam dana prikazivanja rekordnu gledanost\, od trista hiljada gledaoca. \nNajuspešnji domaći film\, u poslednjih nekoliko godina\, prikazan je za sedam dana na 77 ekrana i imao je najuspešnji prvi vikend prikazivanja u poslednjih 15 godina. \n  \nTORONTO\nSubota/Saturday 17.11.2018.  @ 20:00h\nNedelja/Sunday 18.11.2018. @18:30h\nThe Regent Theatre\n551 Mount Pleasant Road\nToronto \nOTTAWA\nPetak/Friday 23.11.2018.  @ 20:00h\nRichcraft Hall Theatre (RB2200)\nCarleton University\n1125 Colonel By Drive\nOttawa \nKITCHENER\nNedelja/Sunday 25.11.2018. @16:30h\nzbog velikog interesovanja dodatna projekcija!Nedelja/Sunday 02.12.2018. @16:30h\nPrincess Twin\n46 King Street North\nWaterloo \nMONTREAL\nNedelja/Sunday 25.11.2018. @18:30h\nCine-Campus Universite de Montréal\nPavillon J.-A.-DeSeve\n2332 boulevard Edouard-Montpetit\nCentre d’essai 6e étage\,\nMontreal\n(Métro Édouard-Montpetit ou autobus 51) \nWINDSOR\nUtorak/Tuesday 27.11.2018.  @ 19:30h\nOlde Walkerville Theatre\n1564 Wyandotte st. E.\nWindsor
URL:https://toblink.com/event/%d1%84%d0%b8%d0%bb%d0%bc-%d1%98%d1%83%d0%b6%d0%bd%d0%b8-%d0%b2%d0%b5%d1%82%d0%b0%d1%80-2/
LOCATION:Richcraft Hall Theatre (RB2200) Carleton University\, 1125 Colonel By Drive\, Ottawa\, Canada
ATTACH;FMTTYPE=image/jpeg:https://toblink.com/wp-content/uploads/2018/11/juzni_vetar-600-2.jpg
ORGANIZER;CN="systementertainment.com":MAILTO:info@systementertainment.com
END:VEVENT
END:VCALENDAR