BEGIN:VCALENDAR
VERSION:2.0
PRODID:-//TOblink Events - ECPv6.3.3.1//NONSGML v1.0//EN
CALSCALE:GREGORIAN
METHOD:PUBLISH
X-ORIGINAL-URL:https://toblink.com
X-WR-CALDESC:Events for TOblink Events
REFRESH-INTERVAL;VALUE=DURATION:PT1H
X-Robots-Tag:noindex
X-PUBLISHED-TTL:PT1H
BEGIN:VTIMEZONE
TZID:America/Halifax
BEGIN:DAYLIGHT
TZOFFSETFROM:-0400
TZOFFSETTO:-0300
TZNAME:ADT
DTSTART:20180311T060000
END:DAYLIGHT
BEGIN:STANDARD
TZOFFSETFROM:-0300
TZOFFSETTO:-0400
TZNAME:AST
DTSTART:20181104T050000
END:STANDARD
END:VTIMEZONE
BEGIN:VEVENT
DTSTART;TZID=America/Halifax:20181118T183000
DTEND;TZID=America/Halifax:20181118T200000
DTSTAMP:20260417T114449
CREATED:20181107T170807Z
LAST-MODIFIED:20181107T170807Z
UID:1927-1542565800-1542571200@toblink.com
SUMMARY:ФИЛМ: ЈУЖНИ ВЕТАР
DESCRIPTION:Bioskopi gore ???\nViše od 300.000 oduševljenih gledalaca širom Srbije i Evrope! Rekordi su porušeni – nebo je granica\, a ovo nije kraj! \nJužni vetar nastavlja da plamti bioskopima! \n  \n \n  \nNajgledaniji film u domaćim bioskopima “Južni vetar” reditelja Miloša Avramovića\, postigao je u prvih sedam dana prikazivanja rekordnu gledanost\, od trista hiljada gledaoca. \nNajuspešnji domaći film\, u poslednjih nekoliko godina\, prikazan je za sedam dana na 77 ekrana i imao je najuspešnji prvi vikend prikazivanja u poslednjih 15 godina. \n  \nTORONTO\nSubota/Saturday 17.11.2018.  @ 20:00h\nNedelja/Sunday 18.11.2018. @18:30h\nThe Regent Theatre\n551 Mount Pleasant Road\nToronto \nOTTAWA\nPetak/Friday 23.11.2018.  @ 20:00h\nRichcraft Hall Theatre (RB2200)\nCarleton University\n1125 Colonel By Drive\nOttawa \nKITCHENER\nNedelja/Sunday 25.11.2018. @16:30h\nzbog velikog interesovanja dodatna projekcija!Nedelja/Sunday 02.12.2018. @16:30h\nPrincess Twin\n46 King Street North\nWaterloo \nMONTREAL\nNedelja/Sunday 25.11.2018. @18:30h\nCine-Campus Universite de Montréal\nPavillon J.-A.-DeSeve\n2332 boulevard Edouard-Montpetit\nCentre d’essai 6e étage\,\nMontreal\n(Métro Édouard-Montpetit ou autobus 51) \nWINDSOR\nUtorak/Tuesday 27.11.2018.  @ 19:30h\nOlde Walkerville Theatre\n1564 Wyandotte st. E.\nWindsor
URL:https://toblink.com/event/%d1%84%d0%b8%d0%bb%d0%bc-%d1%98%d1%83%d0%b6%d0%bd%d0%b8-%d0%b2%d0%b5%d1%82%d0%b0%d1%80-2018-11-18/
LOCATION:The Regent Theatre\, 551 Mount Pleasant Road\, Toronto\, Ontario\, Canada
CATEGORIES:Film
ATTACH;FMTTYPE=image/jpeg:https://toblink.com/wp-content/uploads/2018/11/juzni_vetar-600-2.jpg
ORGANIZER;CN="systementertainment.com":MAILTO:info@systementertainment.com
END:VEVENT
BEGIN:VEVENT
DTSTART;TZID=America/Halifax:20181118T193000
DTEND;TZID=America/Halifax:20181118T233000
DTSTAMP:20260417T114449
CREATED:20181003T152913Z
LAST-MODIFIED:20181003T152913Z
UID:1894-1542569400-1542583800@toblink.com
SUMMARY:The Vagabonds - Debut Show in Lula Lounge
DESCRIPTION:Join The Vagabonds for their debut show\, as they travel around the world playing jazz\, Eastern European folk music\, Latin American rhythms\, and pop classics — all with a gypsy twist. \nKristina Bijelic\, voice & violin\nJozsef Botos\, guitar\nDaniel Botos\, bass\nFrank Botos\, drums \nLula Lounge – 1585 Dundas St. W\, Toronto\, ON\n7:30pm show – Doors open at 6:30pm\nAdmission by donation (suggestion $20) \n*DINNER RESERVATIONS GUARANTEE ENTRY AND SEATING*\nPlease call Lula Lounge at 416-588-0307 to reserve your table\, or visit lula.ca.\nMake it dinner and a show! Check out Lula’s new menu: www.lula.ca/menus
URL:https://toblink.com/event/the-vagabonds-debut-show-in-lula-lounge/
LOCATION:Lula Lounge\, 1585 Dundas West\,\, Toronto\,\, Ontario\, M6K1T9\, Canada
ATTACH;FMTTYPE=image/jpeg:https://toblink.com/wp-content/uploads/2018/10/42996745_10155657259746825_8825060467790577664_o.jpg
END:VEVENT
END:VCALENDAR