BEGIN:VCALENDAR
VERSION:2.0
PRODID:-//TOblink Events - ECPv6.3.3.1//NONSGML v1.0//EN
CALSCALE:GREGORIAN
METHOD:PUBLISH
X-ORIGINAL-URL:https://toblink.com
X-WR-CALDESC:Events for TOblink Events
REFRESH-INTERVAL;VALUE=DURATION:PT1H
X-Robots-Tag:noindex
X-PUBLISHED-TTL:PT1H
BEGIN:VTIMEZONE
TZID:America/Halifax
BEGIN:DAYLIGHT
TZOFFSETFROM:-0400
TZOFFSETTO:-0300
TZNAME:ADT
DTSTART:20180311T060000
END:DAYLIGHT
BEGIN:STANDARD
TZOFFSETFROM:-0300
TZOFFSETTO:-0400
TZNAME:AST
DTSTART:20181104T050000
END:STANDARD
END:VTIMEZONE
BEGIN:VEVENT
DTSTART;TZID=America/Halifax:20180826T110000
DTEND;TZID=America/Halifax:20180826T170000
DTSTAMP:20260414T180447
CREATED:20180629T171511Z
LAST-MODIFIED:20180822T203432Z
UID:1640-1535281200-1535302800@toblink.com
SUMMARY:Tesla Electric City Festival
DESCRIPTION:The 3rd Annual Tesla Electric City Festival (www.teslaeducational.ca) \nSunday 9am-5pm \n900 Woodward Ave\, Hamilton\, ON \nHamilton Museum of Steam & Technology \nHosted by Nikola Tesla Educational Corporation \nIn partnership with the Nikola Tesla Educational Corporation\, we are thrilled to be hosting the third annual Tesla Electric Festival. This local event is part of a global movement celebrating the incredible technological achievements of Nikola Tesla. The festival is an all-ages gathering of commercial exhibitors\, tech enthusiasts\, hobbyists\, science clubs\, artists and students. This year’s festival is also a celebration of a key historical event that changed the course of history in Hamilton: the 120th anniversary of the first hydro-electric power transmission to the City from Decew Falls in Thorold – making it the first electric city in Canada. \nThis is a free event. Free admission to the museum. \nThe event will feature: \ndemonstrations of products from across the spectrum of Tesla’s innovations with electricity and tech exhibitors\nmusical entertainment and fun for the whole family\na self-guided museum experience\nmodel engineering marvels and the popular miniature steam train rides\, presented by the Hamilton Model Engineering Club and the Golden Horseshoe Live Steamers\nfood trucks and vendors will also be on site\nFor more information contact:\nPhone: 905-546-4797\nEmail: steammus@hamilton.ca\nwww.hamilton.ca/steammuseum\n\n \nhttps://www.teslaeducational.ca
URL:https://toblink.com/event/tesla-electric-city-festival/
LOCATION:Hamilton Museum of Steam & Technology\, 900 Woodward Ave\, Hamilton\, Ontario\, L8H 7N2\, Canada
ATTACH;FMTTYPE=image/jpeg:https://toblink.com/wp-content/uploads/2018/06/Nikola-Tesla-Electric-City-event.jpg
END:VEVENT
END:VCALENDAR