BEGIN:VCALENDAR
VERSION:2.0
PRODID:-//TOblink Events - ECPv6.3.3.1//NONSGML v1.0//EN
CALSCALE:GREGORIAN
METHOD:PUBLISH
X-ORIGINAL-URL:https://toblink.com
X-WR-CALDESC:Events for TOblink Events
REFRESH-INTERVAL;VALUE=DURATION:PT1H
X-Robots-Tag:noindex
X-PUBLISHED-TTL:PT1H
BEGIN:VTIMEZONE
TZID:America/Halifax
BEGIN:DAYLIGHT
TZOFFSETFROM:-0400
TZOFFSETTO:-0300
TZNAME:ADT
DTSTART:20180311T060000
END:DAYLIGHT
BEGIN:STANDARD
TZOFFSETFROM:-0300
TZOFFSETTO:-0400
TZNAME:AST
DTSTART:20181104T050000
END:STANDARD
END:VTIMEZONE
BEGIN:VEVENT
DTSTART;VALUE=DATE:20180803
DTEND;VALUE=DATE:20180813
DTSTAMP:20260414T180350
CREATED:20180726T171133Z
LAST-MODIFIED:20180726T171133Z
UID:1718-1533254400-1534118399@toblink.com
SUMMARY:TENNIS ROGERS CUP  2018 - ATP WORLD TOUR MASTERS
DESCRIPTION:  \nAVIVA CENTRE AT YORK UNIVERSITY – FRIDAY\, AUGUST 3 – SUNDAY\, AUGUST 12. 2018 \nRogers Cup presented by National Bank. The best of the ATP men’s tour return to Toronto this summer\, as Rogers Cup presented by National Bank is set to take over Aviva Centre for another action-packed tournament. Rogers Cup is a prestigious professional tennis tournament organized by TennisCanada. \nwww.rogerscup.com \n 
URL:https://toblink.com/event/tennis-rogers-cup-2018-atp-world-tour-masters/
LOCATION:AVIVA CENTRE AT YORK UNIVERSITY\, 1 Shoreham Dr.\, Toronto\, Ontario\, M3N 3A6\, Canada
CATEGORIES:Sport
ATTACH;FMTTYPE=image/jpeg:https://toblink.com/wp-content/uploads/2018/07/Novak.jpg
END:VEVENT
BEGIN:VEVENT
DTSTART;TZID=America/Halifax:20180811T090000
DTEND;TZID=America/Halifax:20180811T130000
DTSTAMP:20260414T180350
CREATED:20180724T173124Z
LAST-MODIFIED:20180724T173124Z
UID:1683-1533978000-1533992400@toblink.com
SUMMARY:HUMANITARNA AKCIJA "JEDRIM ZA MALIŠANE"
DESCRIPTION:Uzivajte u panorami Toronta\, sa jedrenjaka Beaches Sailing skole.\nNaucite osnovne tehnike jedrenja ili samo opusteno uzivajte!\nSav prihod namenjen je za pomoc deci Malog sveta Kanade! \n$75 po osobi\, za 2-3 sata jedrenja\, sa SAIL Canada sertifikovanim instruktorom \n3-4 osobe u grupi\n26′ jedrilica \nDatumi: \nSubota\, 7. jul u 10:00 – popunjeno\nSreda\, 25. jul u18:30 – jedno mesto slobodno\nCetvrtak\, 26. jul u18:30 – 2 mesta\nSreda\, 1. avgust u18:30 – popunjeno\nSubota\, 11. avgust u 10:00 – popunjeno \nDa rezervisete vas termin i za dodatne informacije \nemail: info@malisvetkanada.org \n \n\nVeliko HVALA kapetanu Stefanu\, sertifikovanom instruktoru za jedrenje\, iz  Beaches Sailing skole\,\nza njegovu donaciju\, veliko srce i zelju da pomogne! \nhttp://beachessailing.ca/ \n \nJer najepše na svetu je dete\, kad se raduje…
URL:https://toblink.com/event/humanitarna-akcija-jedrim-za-malisane-2018-08-11/
LOCATION:Toronto\, Lake Ontario\, Toronto\, Ontario\, Canada
CATEGORIES:Fundraising
ATTACH;FMTTYPE=image/jpeg:https://toblink.com/wp-content/uploads/2018/07/Mali-svet-jedrenje.jpg
ORGANIZER;CN="Mali svet Kanada":MAILTO:info@malisvetkanada.org
END:VEVENT
END:VCALENDAR