BEGIN:VCALENDAR
VERSION:2.0
PRODID:-//TOblink Events - ECPv6.3.3.1//NONSGML v1.0//EN
CALSCALE:GREGORIAN
METHOD:PUBLISH
X-WR-CALNAME:TOblink Events
X-ORIGINAL-URL:https://toblink.com
X-WR-CALDESC:Events for TOblink Events
REFRESH-INTERVAL;VALUE=DURATION:PT1H
X-Robots-Tag:noindex
X-PUBLISHED-TTL:PT1H
BEGIN:VTIMEZONE
TZID:America/Halifax
BEGIN:DAYLIGHT
TZOFFSETFROM:-0400
TZOFFSETTO:-0300
TZNAME:ADT
DTSTART:20180311T060000
END:DAYLIGHT
BEGIN:STANDARD
TZOFFSETFROM:-0300
TZOFFSETTO:-0400
TZNAME:AST
DTSTART:20181104T050000
END:STANDARD
END:VTIMEZONE
BEGIN:VEVENT
DTSTART;TZID=America/Halifax:20180703T193000
DTEND;TZID=America/Halifax:20180703T210000
DTSTAMP:20260414T175005
CREATED:20180629T171511Z
LAST-MODIFIED:20180629T171511Z
UID:1653-1530646200-1530651600@toblink.com
SUMMARY:Додела признања Културно-просветне заједнице Србије
DESCRIPTION:ЗВАННИЧНИ ПРОГРАМ ПОСЕТЕ\nГЕНЕРАЛНОМ КОНЗУЛАТУ РЕПУБЛИКЕ СРБИЈЕ\nИ СРПСКОЈ НАЦИОНАЛНОЈ АКАДЕМИЈИ КАНАДЕ У ТОРОНТУ\,\nГЕНЕРАЛНОГ СЕКРЕТАРАКУЛТУРНО-ПРОСВЕТНЕ ЗАЈЕДНИЦЕ\nРЕПУБЛИКЕ СРБИЈЕ ЖИВОРАДА АЈДАЧИЋА \n27. јун 2018. долазак у Торонто; \n28. јун 2018. 19.30. ч. – учешће на Видовданској академији\,\nса Владиком канадским Митрофаном\, видовданско обраћање; Галерија СНА\, 2381 Dundas St. W. Торонто  \n01. јул 2018. 15.00 ч. – присуство наступу Академије српске националне игре „Мирослав Бата Марчетић“ у оквиру свечаности поводом Дана Канаде; Dundas Square  \n03. јул 2018. 19.30 ч. додела признања Културно-просветне заједнице Србије Жарку Брестовцу и Српској националној академији Канаде у Торонту; Генерални конзулат Републике Србије\, 40 Eglinton Ave. E. #701  \n04. јул 2018. 19.30. ч. сусрет са аутором\, представљање књиге Живорада Ајдачића „Културна политика у транзицији“; Галерија СНА\, 2381 Dundas St. W. Торонто \nСВИ СТЕ ДОБРОДОШЛИ НА СВЕ ДОГАЂАЈЕ!
URL:https://toblink.com/event/%d0%b4%d0%be%d0%b4%d0%b5%d0%bb%d0%b0-%d0%bf%d1%80%d0%b8%d0%b7%d0%bd%d0%b0%d1%9a%d0%b0-%d0%ba%d1%83%d0%bb%d1%82%d1%83%d1%80%d0%bd%d0%be-%d0%bf%d1%80%d0%be%d1%81%d0%b2%d0%b5%d1%82%d0%bd%d0%b5-%d0%b7/
LOCATION:GENERALNI KONZULAT TORONTO\, 40 Eglinton Ave. E. #701\, Toronto\, Ontario\, Canada
CATEGORIES:Community
ATTACH;FMTTYPE=image/jpeg:https://toblink.com/wp-content/uploads/2018/06/SNA-2.jpg
END:VEVENT
END:VCALENDAR