BEGIN:VCALENDAR
VERSION:2.0
PRODID:-//TOblink Events - ECPv6.3.3.1//NONSGML v1.0//EN
CALSCALE:GREGORIAN
METHOD:PUBLISH
X-WR-CALNAME:TOblink Events
X-ORIGINAL-URL:https://toblink.com
X-WR-CALDESC:Events for TOblink Events
REFRESH-INTERVAL;VALUE=DURATION:PT1H
X-Robots-Tag:noindex
X-PUBLISHED-TTL:PT1H
BEGIN:VTIMEZONE
TZID:America/Halifax
BEGIN:DAYLIGHT
TZOFFSETFROM:-0400
TZOFFSETTO:-0300
TZNAME:ADT
DTSTART:20180311T060000
END:DAYLIGHT
BEGIN:STANDARD
TZOFFSETFROM:-0300
TZOFFSETTO:-0400
TZNAME:AST
DTSTART:20181104T050000
END:STANDARD
END:VTIMEZONE
BEGIN:VEVENT
DTSTART;TZID=America/Halifax:20180701T150000
DTEND;TZID=America/Halifax:20180701T170000
DTSTAMP:20260414T175001
CREATED:20180629T171511Z
LAST-MODIFIED:20180629T173210Z
UID:1649-1530457200-1530464400@toblink.com
SUMMARY:Дани Канаде - Dundas Square
DESCRIPTION:ЗВАННИЧНИ ПРОГРАМ ПОСЕТЕ\nГЕНЕРАЛНОМ КОНЗУЛАТУ РЕПУБЛИКЕ СРБИЈЕ\nИ СРПСКОЈ НАЦИОНАЛНОЈ АКАДЕМИЈИ КАНАДЕ У ТОРОНТУ\,\nГЕНЕРАЛНОГ СЕКРЕТАРАКУЛТУРНО-ПРОСВЕТНЕ ЗАЈЕДНИЦЕ\nРЕПУБЛИКЕ СРБИЈЕ ЖИВОРАДА АЈДАЧИЋА \n27. јун 2018. долазак у Торонто; \n28. јун 2018. 19.30. ч. – учешће на Видовданској академији\,\nса Владиком канадским Митрофаном\, видовданско обраћање; Галерија СНА\, 2381 Dundas St. W. Торонто \n01. јул 2018. 15.00 ч. – присуство наступу Академије српске националне игре „Мирослав Бата Марчетић“ у оквиру свечаности поводом Дана Канаде; Dundas Square \n03. јул 2018. 19.30 ч. додела признања Културно-просветне заједнице Србије Жарку Брестовцу и Српској националној академији Канаде у Торонту; Генерални конзулат Републике Србије\, 40 Eglinton Ave. E. #701 \n04. јул 2018. 19.30. ч. сусрет са аутором\, представљање књиге Живорада Ајдачића „Културна политика у транзицији“; Галерија СНА\, 2381 Dundas St. W. Торонто \nСВИ СТЕ ДОБРОДОШЛИ НА СВЕ ДОГАЂАЈЕ!
URL:https://toblink.com/event/%d0%b4%d0%b0%d0%bd%d0%b0-%d0%ba%d0%b0%d0%bd%d0%b0%d0%b4%d0%b5-dundas-square/
LOCATION:Dundas Square
ATTACH;FMTTYPE=image/jpeg:https://toblink.com/wp-content/uploads/2018/06/SNA-1.jpg
END:VEVENT
END:VCALENDAR