BEGIN:VCALENDAR
VERSION:2.0
PRODID:-//TOblink Events - ECPv6.3.3.1//NONSGML v1.0//EN
CALSCALE:GREGORIAN
METHOD:PUBLISH
X-WR-CALNAME:TOblink Events
X-ORIGINAL-URL:https://toblink.com
X-WR-CALDESC:Events for TOblink Events
REFRESH-INTERVAL;VALUE=DURATION:PT1H
X-Robots-Tag:noindex
X-PUBLISHED-TTL:PT1H
BEGIN:VTIMEZONE
TZID:America/Halifax
BEGIN:DAYLIGHT
TZOFFSETFROM:-0400
TZOFFSETTO:-0300
TZNAME:ADT
DTSTART:20180311T060000
END:DAYLIGHT
BEGIN:STANDARD
TZOFFSETFROM:-0300
TZOFFSETTO:-0400
TZNAME:AST
DTSTART:20181104T050000
END:STANDARD
END:VTIMEZONE
BEGIN:VEVENT
DTSTART;TZID=America/Halifax:20180628T200000
DTEND;TZID=America/Halifax:20180628T220000
DTSTAMP:20260414T174958
CREATED:20180629T171511Z
LAST-MODIFIED:20180629T171511Z
UID:1645-1530216000-1530223200@toblink.com
SUMMARY:Видовданска академија
DESCRIPTION:ЗВАННИЧНИ ПРОГРАМ ПОСЕТЕ \nГЕНЕРАЛНОМ КОНЗУЛАТУ РЕПУБЛИКЕ СРБИЈЕ \nИ СРПСКОЈ НАЦИОНАЛНОЈ АКАДЕМИЈИ КАНАДЕ У ТОРОНТУ\, \nГЕНЕРАЛНОГ СЕКРЕТАРАКУЛТУРНО-ПРОСВЕТНЕ ЗАЈЕДНИЦЕ \nРЕПУБЛИКЕ СРБИЈЕ ЖИВОРАДА АЈДАЧИЋА \n28. јун 2018. 19.30. ч. – учешће на Видовданској академији\, \nса Владиком канадским Митрофаном\, видовданско обраћање; Галерија СНА\, 2381 Dundas St. W. Торонто \nДОБРОДОШЛИ !
URL:https://toblink.com/event/%d0%b2%d0%b8%d0%b4%d0%be%d0%b2%d0%b4%d0%b0%d0%bd%d1%81%d0%ba%d0%b0-%d0%b0%d0%ba%d0%b0%d0%b4%d0%b5%d0%bc%d0%b8%d1%98%d0%b0/
LOCATION:СРПСКА НАЦИОНАЛНА АКАДЕМИЈA\, 2381 Dundas St W.\, Toronto\, Ontario\, Canada
ATTACH;FMTTYPE=image/jpeg:https://toblink.com/wp-content/uploads/2018/06/SNA.jpg
END:VEVENT
END:VCALENDAR