BEGIN:VCALENDAR
VERSION:2.0
PRODID:-//TOblink Events - ECPv6.3.3.1//NONSGML v1.0//EN
CALSCALE:GREGORIAN
METHOD:PUBLISH
X-WR-CALNAME:TOblink Events
X-ORIGINAL-URL:https://toblink.com
X-WR-CALDESC:Events for TOblink Events
REFRESH-INTERVAL;VALUE=DURATION:PT1H
X-Robots-Tag:noindex
X-PUBLISHED-TTL:PT1H
BEGIN:VTIMEZONE
TZID:America/Halifax
BEGIN:DAYLIGHT
TZOFFSETFROM:-0400
TZOFFSETTO:-0300
TZNAME:ADT
DTSTART:20180311T060000
END:DAYLIGHT
BEGIN:STANDARD
TZOFFSETFROM:-0300
TZOFFSETTO:-0400
TZNAME:AST
DTSTART:20181104T050000
END:STANDARD
END:VTIMEZONE
BEGIN:VEVENT
DTSTART;TZID=America/Halifax:20180624T000000
DTEND;TZID=America/Halifax:20180624T140000
DTSTAMP:20260416T113030
CREATED:20180629T171512Z
LAST-MODIFIED:20180629T171512Z
UID:1624-1529798400-1529848800@toblink.com
SUMMARY:Промоција књиге - "Зашто смо отишли"
DESCRIPTION:Зашто одлазимо\, последње је питање с краја 20. века које је себи поставио сваки Југословен када је прекорачио границу. Неко гласно\, неко шапатом\, а неко на дну душе. Иако је свако знао одговор\, морао је да се увери да другог пута нема. На тај пут понели смо истину\, снове\, али и заблуде – неке од њих завршиле су на страницама овог зборника. Зашто сте отишли\, прво је и најчешће питање које нам постављају у матици. Навикли смо да не дајемо дуге одговоре и да штура „оправдања“ да смо хтели мирнији и сигурнији живот за своју децу пропратимо смешком. И ћутимо. Ћутимо о својој (не)срећи коју смо понели у нову замљу.  \nЗашто смо отишли! Када? Како? Где? Размењују се искуства и приче које све нас спајају и воде у период заједничког живота под кровом отаџбине\, далеко од отаџбине\, био он вредан сећања или заборава. \nПонекад се и понегде од лажних новинских вести рађају митови – ни њих се поједини аутори овог зборника не одричу\, и зато треба јасно одвојити историју\, повест\, догађаје од ауторског виђења југословенске прошлости и југословенске трагедије. Право је сваког човека да исприча своју причу. На његовој је савести хоће ли се та прича поклопити са чињеницама о месту\, времену и људима. Приређивач\, са друге стране\, има обавезу да сваком дозволи да исприча своју причу. Тако се најбоље показује не зашто смо отишли\, него докле смо отишли\, докле смо стигли на путу помирења.
URL:https://toblink.com/event/%d0%bf%d1%80%d0%be%d0%bc%d0%be%d1%86%d0%b8%d1%98%d0%b0-%d0%ba%d1%9a%d0%b8%d0%b3%d0%b5-%d0%b7%d0%b0%d1%88%d1%82%d0%be-%d1%81%d0%bc%d0%be-%d0%be%d1%82%d0%b8%d1%88%d0%bb%d0%b8/
LOCATION:СПЦ ’’Свети Димитрије’’\, 2690 Seminole St\, Windsor\, ON\, N8Y 1X7\, Canada
CATEGORIES:Book promotion
ATTACH;FMTTYPE=image/jpeg:https://toblink.com/wp-content/uploads/2018/06/Plakat-copy.jpg
END:VEVENT
END:VCALENDAR