BEGIN:VCALENDAR
VERSION:2.0
PRODID:-//TOblink Events - ECPv6.3.3.1//NONSGML v1.0//EN
CALSCALE:GREGORIAN
METHOD:PUBLISH
X-WR-CALNAME:TOblink Events
X-ORIGINAL-URL:https://toblink.com
X-WR-CALDESC:Events for TOblink Events
REFRESH-INTERVAL;VALUE=DURATION:PT1H
X-Robots-Tag:noindex
X-PUBLISHED-TTL:PT1H
BEGIN:VTIMEZONE
TZID:America/Halifax
BEGIN:DAYLIGHT
TZOFFSETFROM:-0400
TZOFFSETTO:-0300
TZNAME:ADT
DTSTART:20180311T060000
END:DAYLIGHT
BEGIN:STANDARD
TZOFFSETFROM:-0300
TZOFFSETTO:-0400
TZNAME:AST
DTSTART:20181104T050000
END:STANDARD
END:VTIMEZONE
BEGIN:VEVENT
DTSTART;TZID=America/Halifax:20180602T110000
DTEND;TZID=America/Halifax:20180602T130000
DTSTAMP:20260416T114053
CREATED:20180403T204930Z
LAST-MODIFIED:20180403T205010Z
UID:1545-1527937200-1527944400@toblink.com
SUMMARY:SAMA-Canada - Second Annual Walk
DESCRIPTION:Second Annual Walk For Serbian American Medical Association – Canada \nSAMA-Canada www.serbianama.org would hold the second annual walk at Erindale Park\, Mississauga On June 2 2018. Following the success from the last year when we raised money to buy an ultrasound machine for Pancevo Hospital this year our goal is to raise money to buy a mobile paediatric incubator for Kraljevo OB Hospital Ward.
URL:https://toblink.com/event/sama-canada-second-annual-walk/
LOCATION:Erindale Park\, 1695 Dundas St W\, Mississauga\, Ontario\, Canada
CATEGORIES:Fundraising
END:VEVENT
END:VCALENDAR