BEGIN:VCALENDAR
VERSION:2.0
PRODID:-//TOblink Events - ECPv6.3.3.1//NONSGML v1.0//EN
CALSCALE:GREGORIAN
METHOD:PUBLISH
X-ORIGINAL-URL:https://toblink.com
X-WR-CALDESC:Events for TOblink Events
REFRESH-INTERVAL;VALUE=DURATION:PT1H
X-Robots-Tag:noindex
X-PUBLISHED-TTL:PT1H
BEGIN:VTIMEZONE
TZID:America/Halifax
BEGIN:DAYLIGHT
TZOFFSETFROM:-0400
TZOFFSETTO:-0300
TZNAME:ADT
DTSTART:20180311T060000
END:DAYLIGHT
BEGIN:STANDARD
TZOFFSETFROM:-0300
TZOFFSETTO:-0400
TZNAME:AST
DTSTART:20181104T050000
END:STANDARD
END:VTIMEZONE
BEGIN:VEVENT
DTSTART;TZID=America/Halifax:20180412T190000
DTEND;TZID=America/Halifax:20180412T210000
DTSTAMP:20260420T204406
CREATED:20180403T201154Z
LAST-MODIFIED:20180403T201154Z
UID:1516-1523559600-1523566800@toblink.com
SUMMARY:ЛАБУД ДРАГИЋ - ПРОМОЦИЈА КЊИГЕ КУКАВИЧИЈА ПИЛАД
DESCRIPTION:Промоцијa четвороструко награђеног романа \n\n”Кукавичја пилад”  \n\nОдржаће се 12. априла 2018. у 19 ч. \nу просторијама \nГенералног конзулата Републике Србије \n40 Eglington Ave. Est # 7. Unit 701 \n\n– Уводна реч: Ген. конзул\, Василије Петковић \n– Представљање књижевника Лабуда Драгића: Гордана Петковић Лаковић \n– Аутор романа “Кукавичја пилад” о историјском оквиру свог дела \n– Читање одломака из романа “Кукавичја пилад” и из Зборника \n   изабраних анализа и критика о роману: драмски уметник Димитрије Поробић \n– Одговори Лабуда Драгића на питања из публике
URL:https://toblink.com/event/%d0%bb%d0%b0%d0%b1%d1%83%d0%b4-%d0%b4%d1%80%d0%b0%d0%b3%d0%b8%d1%9b-%d0%bf%d1%80%d0%be%d0%bc%d0%be%d1%86%d0%b8%d1%98%d0%b0-%d0%ba%d1%9a%d0%b8%d0%b3%d0%b5-%d0%ba%d1%83%d0%ba%d0%b0%d0%b2%d0%b8%d1%87/
LOCATION:Генерални конзулат РС\, 40 Eglington Ave E. 7th floor\, unit 701\, Toronto\, Ontario\, M4P 3A2\, Canada
CATEGORIES:Book promotion,Cultural event
ORGANIZER;CN="%D0%A3%D0%94%D0%A0%D0%A3%D0%96%D0%95%D0%8A%D0%95 %D0%9F%D0%98%D0%A1%D0%90%D0%A6%D0%90 %E2%80%9D%D0%94%D0%95%D0%A1%D0%90%D0%9D%D0%9A%D0%90 %D0%9C%D0%90%D0%9A%D0%A1%D0%98%D0%9C%D0%9E%D0%92%D0%98%D0%8B%E2%80%9D":MAILTO:desankamaksimovictoronto@gmail.com
END:VEVENT
END:VCALENDAR