BEGIN:VCALENDAR
VERSION:2.0
PRODID:-//TOblink Events - ECPv6.3.3.1//NONSGML v1.0//EN
CALSCALE:GREGORIAN
METHOD:PUBLISH
X-WR-CALNAME:TOblink Events
X-ORIGINAL-URL:https://toblink.com
X-WR-CALDESC:Events for TOblink Events
REFRESH-INTERVAL;VALUE=DURATION:PT1H
X-Robots-Tag:noindex
X-PUBLISHED-TTL:PT1H
BEGIN:VTIMEZONE

END:VTIMEZONE
BEGIN:VEVENT
DTSTART;TZID=America/Halifax:20260421T211011
DTEND;TZID=America/Halifax:20180324T210000
DTSTAMP:20260421T211011
CREATED:20180313T205521Z
LAST-MODIFIED:20180313T205521Z
UID:1491-0-1521925200@toblink.com
SUMMARY:
DESCRIPTION:  \nЖаба/ The Frog\, by Emir Jukić\, Bosnian Film
URL:https://toblink.com/event/1491/
LOCATION:REGENT THEATRE\, 551 Mount Pleasant Road\, Toronto\, Ontario\, M4S 2M5\, Canada
CATEGORIES:Film
END:VEVENT
BEGIN:VEVENT
DTSTART;TZID=America/Halifax:20180324T060000
DTEND;TZID=America/Halifax:20180324T193000
DTSTAMP:20260421T211011
CREATED:20180313T205920Z
LAST-MODIFIED:20180313T205920Z
UID:1496-1521871200-1521919800@toblink.com
SUMMARY:КАФА И ЦИГАРЕТЕ-ПОЗДРАВ ИЗ БЕОГРАДА
DESCRIPTION:  \nАТЕЉЕ 212 \nATELJE 212 u Torontu sa predstavom \nKAFA I CIGARETE – POZDRAV IZ BEOGRADA \nIgraju: Milica Mihajlović\, Nebojša Ilić\, Tihomir Stanić\, Dara Džokić\, Milica Trifunović\, Marko Grabež i Svetozar Cvetković \nRežija: MIA KNEŽEVIĆ \nScenografija: Miljena Vučković \nKostimografija: Dragica Laušević \nIvana: MILICA MIHAJLOVIĆ \nRelja: NEBOJŠA ILIĆ Profesor (Danilo): TIHOMIR STANIĆ \nAzra: DARA DŽOKIĆ \nMaša: MILICA TRIFUNOVIĆ \nStudent (On): MARKO GRABEŽ \nMilenko: SVETOZAR CVETKOVIĆ \nTORONTO \nSubota 24.03.2018. u 18.00h i 21.00h \nIsabel Bader Theatre 93 Charles st. W.\, Toronto \nhttp://www.systementertainment.com
URL:https://toblink.com/event/%d0%ba%d0%b0%d1%84%d0%b0-%d0%b8-%d1%86%d0%b8%d0%b3%d0%b0%d1%80%d0%b5%d1%82%d0%b5-%d0%bf%d0%be%d0%b7%d0%b4%d1%80%d0%b0%d0%b2-%d0%b8%d0%b7-%d0%b1%d0%b5%d0%be%d0%b3%d1%80%d0%b0%d0%b4%d0%b0/
LOCATION:Isabel Bader Theatre\, 93 Charles Street West\, Toronto\, Ontario\, Canada
CATEGORIES:Theatar
ORGANIZER;CN="systementertainment.com":MAILTO:info@systementertainment.com
END:VEVENT
BEGIN:VEVENT
DTSTART;TZID=America/Halifax:20180324T200000
DTEND;TZID=America/Halifax:20180324T233000
DTSTAMP:20260421T211011
CREATED:20180403T192526Z
LAST-MODIFIED:20180403T192526Z
UID:1500-1521921600-1521934200@toblink.com
SUMMARY:Др. Неле Карајлић пева хитове групе Забрањено пушење
DESCRIPTION:Dr Nele Karajlic legendary Rock/Punk/New Primitive ex frontman of Zabranjeno Pušenje and his All Star Band are back where they belong out on the road playing to packed venues. \n▶ Saturday March 24th\, 2018 \n▶▶ Doors open @ 8:00pm \n▶▶▶ The Phoenix Concert Theatre \n▶▶▶▶ Get your Early Bird Tickets at: \nhttps://goo.gl/DVeEC5 \n▶▶▶ Limited tickets Under 19 (only online purchase) \n▶▶ Questions: 647-449-3020 \n▶ More info www.bekstejdz.com \nNele will perform songs of Zabranjeno \nPusenje in original rock and punk arrangements and will take fans on an electrifying journey through Zabranjeno Pusenje classics such Murga Drot\, Anarhija All Over Bascarsija\, Zenica Blues\, Hadzija ili Bos\, Guzonjin Sin\, Pisonja i Zuga\, Lutka Sa Naslovne Strane\, Dan Republike\, Šeki Is On the Road Again\, Ibro Dirka\, Nedelja Kada Je Otisao Hase\, Sanjao Sam Noćas Da Te Imam\, Javi Mi\, Abid\, Djevojčice Kojima Miriše Koža\, Gile Sampion\, Necu Da Budem Svabo\, Fikreta\, Dobri Jarani\, Ja Nisam Odavle\, Zeni Nam Se Vukota\, Djindji-rindji Bubamaro & more but they will also include a couple of new songs\, and randomly selected surprises from their formidable arsenal of songs. \nTickets Info:: \n● GA Standing Tickets \n– Adult GA 19+ Event \n(Tier I Early Bird first 300 or till Feb 19 2018 – $45 (only online) / Tier II second 300 – $50 / Tier III – $55) (Tax and Facility Fee included) At the Stores $55 \n● Limited All Ages Tickets available only online (only qty 50) (Early Bird till Feb 19 2018 – $50 / After Feb 19 2017 – $55 / At the Door – N/A) (Tax and Facility Fee included) Not Available at the stores Balcony / No Alcohol Zone / Only 50 tickets available \nPLEASE NOTE: *If you purchase Adult GA Ticket and you are under 19\, you won’t be allowed to the venue. \n**Patrons under the age of 19 years may attend accompanied by a parent or legal guardian with a valid ticket. ***INFANTS AND KIDS UNDER 10 NOT ADMITTED. \n****Balcony Seating and General Standing is only accessible via the stairs. No disabled access. \n*****Entry is entirely at the discretion of the Licensee. \n******No external food or drinks are permitted in the venue.
URL:https://toblink.com/event/%d0%b4%d1%80-%d0%bd%d0%b5%d0%bb%d0%b5-%d0%ba%d0%b0%d1%80%d0%b0%d1%98%d0%bb%d0%b8%d1%9b-%d0%bf%d0%b5%d0%b2%d0%b0-%d1%85%d0%b8%d1%82%d0%be%d0%b2%d0%b5-%d0%b3%d1%80%d1%83%d0%bf%d0%b5-%d0%b7%d0%b0%d0%b1/
LOCATION:The Phoenix Concert Theatre\, 410 Sherbourne St.\, Toronto\, Ontario\, M5X 1K2\, Canada
CATEGORIES:Concert
END:VEVENT
END:VCALENDAR