BEGIN:VCALENDAR
VERSION:2.0
PRODID:-//TOblink Events - ECPv6.3.3.1//NONSGML v1.0//EN
CALSCALE:GREGORIAN
METHOD:PUBLISH
X-WR-CALNAME:TOblink Events
X-ORIGINAL-URL:https://toblink.com
X-WR-CALDESC:Events for TOblink Events
REFRESH-INTERVAL;VALUE=DURATION:PT1H
X-Robots-Tag:noindex
X-PUBLISHED-TTL:PT1H
BEGIN:VTIMEZONE

END:VTIMEZONE
BEGIN:VEVENT
DTSTART;TZID=America/Halifax:20260421T210324
DTEND;TZID=America/Halifax:20180324T210000
DTSTAMP:20260421T210324
CREATED:20180313T205521Z
LAST-MODIFIED:20180313T205521Z
UID:1491-0-1521925200@toblink.com
SUMMARY:
DESCRIPTION:  \nЖаба/ The Frog\, by Emir Jukić\, Bosnian Film
URL:https://toblink.com/event/1491/
LOCATION:REGENT THEATRE\, 551 Mount Pleasant Road\, Toronto\, Ontario\, M4S 2M5\, Canada
CATEGORIES:Film
END:VEVENT
BEGIN:VEVENT
DTSTART;TZID=America/Halifax:20180321T193000
DTEND;TZID=America/Halifax:20180321T220000
DTSTAMP:20260421T210324
CREATED:20180313T204403Z
LAST-MODIFIED:20180313T204734Z
UID:1480-1521660600-1521669600@toblink.com
SUMMARY:СВЕТСКИ ДАН ПОЕЗИЈЕ
DESCRIPTION:ПОШТОВАНИ ЉУБИТЕЉИ ПОЕЗИЈЕ\, \nУЗ ПОДРШКУ СРПСКЕ НАЦИОНАЛНЕ АКАДЕМИЈЕ \nВАС ПОЗИВА НА\nСВЕТСКИ ДАН ПОЕЗИЈЕ \nУ среду\, 21. 03. 2018. у 19:30 часова \nСРПСКА НАЦИОНАЛНА АКАДЕМИЈА \n2381 Dundas St. W\, Toronto\, Ontario \nПоштовани љубитељи књижевности и писане речи\, \nСваке године\, широм света\, 21. март се обележава као Светски дан поезије. \nТог дана се окупљају људи који воле и пишу песме \, организују се књижевне вечери\, чита се поезија по улицама\, на отвореном\, по ћошковима\, парковима\, књижарама\, ресторанима\, чак се понегде и кафа може платити стиховима. Свака земља и сви заљубљеници писане речи\, на овај или онај начин\, посвете тај дан песницима и онима који их читају и воле. \nОве године\, решили смо да и ми дамо наш мали допринос овој лепој прослави и да се те вечери окупимо и подсетимо наших старих\, прослављених песника\, као и да читамо своје стихове – како ко буде желео и како буде расположен. \nЈедино правило је: понесите неколико својих или туђих омиљених песама и дођите да у лепој атмосфери проведемо вече заједно придружујући се овој међународној прослави. \nwww.un.org/en/events/poetryday/ \nСрдачно\, \nАутор пројекта\, \nАна Гинић \n2018.
URL:https://toblink.com/event/%d1%81%d0%b2%d0%b5%d1%82%d1%81%d0%ba%d0%b8-%d0%b4%d0%b0%d0%bd-%d0%bf%d0%be%d0%b5%d0%b7%d0%b8%d1%98%d0%b5/
LOCATION:СРПСКА НАЦИОНАЛНА АКАДЕМИЈA\, 2381 Dundas St W.\, Toronto\, Ontario\, Canada
CATEGORIES:Cultural event
ORGANIZER;CN="%D0%A3%D0%94%D0%A0%D0%A3%D0%96%D0%95%D0%8A%D0%95 %D0%9F%D0%98%D0%A1%D0%90%D0%A6%D0%90 %E2%80%9D%D0%94%D0%95%D0%A1%D0%90%D0%9D%D0%9A%D0%90 %D0%9C%D0%90%D0%9A%D0%A1%D0%98%D0%9C%D0%9E%D0%92%D0%98%D0%8B%E2%80%9D":MAILTO:desankamaksimovictoronto@gmail.com
END:VEVENT
END:VCALENDAR