BEGIN:VCALENDAR
VERSION:2.0
PRODID:-//TOblink Events - ECPv6.3.3.1//NONSGML v1.0//EN
CALSCALE:GREGORIAN
METHOD:PUBLISH
X-WR-CALNAME:TOblink Events
X-ORIGINAL-URL:https://toblink.com
X-WR-CALDESC:Events for TOblink Events
REFRESH-INTERVAL;VALUE=DURATION:PT1H
X-Robots-Tag:noindex
X-PUBLISHED-TTL:PT1H
BEGIN:VTIMEZONE
TZID:UTC
BEGIN:STANDARD
TZOFFSETFROM:+0000
TZOFFSETTO:+0000
TZNAME:UTC
DTSTART:20180101T000000
END:STANDARD
END:VTIMEZONE
BEGIN:VEVENT
DTSTART;TZID=America/Halifax:20260421T210233
DTEND;TZID=America/Halifax:20180324T210000
DTSTAMP:20260421T210233
CREATED:20180313T205521Z
LAST-MODIFIED:20180313T205521Z
UID:1491-0-1521925200@toblink.com
SUMMARY:
DESCRIPTION:  \nЖаба/ The Frog\, by Emir Jukić\, Bosnian Film
URL:https://toblink.com/event/1491/
LOCATION:REGENT THEATRE\, 551 Mount Pleasant Road\, Toronto\, Ontario\, M4S 2M5\, Canada
CATEGORIES:Film
END:VEVENT
BEGIN:VEVENT
DTSTART;TZID=America/Halifax:20180302T120000
DTEND;TZID=America/Halifax:20180318T190000
DTSTAMP:20260421T210233
CREATED:20180313T194606Z
LAST-MODIFIED:20180313T195937Z
UID:1436-1519992000-1521399600@toblink.com
SUMMARY:КРАТАКЕ ПРИЧЕ У БОЈАМА
DESCRIPTION:Галерија Српске националне академије вас позива на изложбу нових ликовних радова академског сликара Озренка Мрикћа: \nКРАТКЕ ПРИЧЕ У БОЈАМА \nОтварање изложбе: 3. март\, 2018 \nУ току изложбе галерија ради од 12 – 19 часова. \nЗа више информација кликните на линк у горњем десном углу. 
URL:https://toblink.com/event/%d0%ba%d1%80%d0%b0%d1%82%d0%b0%d0%ba%d0%b5-%d0%bf%d1%80%d0%b8%d1%87%d0%b5-%d1%83-%d0%b1%d0%be%d1%98%d0%b0%d0%bc%d0%b0/
LOCATION:СРПСКА НАЦИОНАЛНА АКАДЕМИЈA\, 2381 Dundas St W.\, Toronto\, Ontario\, Canada
END:VEVENT
BEGIN:VEVENT
DTSTART;TZID=America/Halifax:20180304T070000
DTEND;TZID=America/Halifax:20180304T203000
DTSTAMP:20260421T210233
CREATED:20180313T200941Z
LAST-MODIFIED:20180313T201709Z
UID:1459-1520146800-1520195400@toblink.com
SUMMARY:ПАТУЉЦИ СА НАСЛОВНИХ СТРАНА
DESCRIPTION:Scenario i režija: Milorad Milinković \nUloge: Gordan Kičić\, Boris Milivojević\, Aleksandar Radojičić\, Milena Radulović\, Marko Gvero\, Jelena Đukić\, Ljuba Bandović\, Tamara Krcunović\, Rale Milenković\, Olga Odanović\, Novak Radulović \nŽanr: komedija Direktor fotografije: Dimitrije Joković \nScenograf: Aleksandar Veljanović \nKostimograf: Dragana Lađevac \nProducent: Predrag Bajčetić \nProdukcijska kuća: Bombona Production \nKo-produkcija i distribucija: Taramount film; Livada produkcija \nSINOPSIS: \nNikola (Gordan Kičić) ima četrdesetak godina i vodeća je zvezda reality programa koji se zove ’’Tri minuta slave’’. U praksi to izgleda tako što on bezobrazno vređa ljude koji se na taj šou prijave i zbog toga je jako cenjen i odlično plaćen. Njegove zlobne i otrovne reči magnetski privlače gledalište i rejtinge dižu do nebesa. Osim toga\, on smišlja i razne druge reality formate\, kao i razne skrivene kamere. Njegov život je zapravo reality program. Njegov najbolji prijatelj Zoran (Boris Milivojević) je vlasnik medijske kuće koja se bavi proizvodnjom raznih reality formata\, a žena njegovog prijatelja Mira (Tamara Krcunović) je njegova najveća ljubav iz mladosti\, što\, naravno\, niko osim njih dvoje ne zna. \nNikolin život počinje da se menja u trenutku kada smišlja način kako da od mlade devojke koju gura njena ambiciozna majka\, naprave zvezdu. Smeštaju joj skrivenu kameru koja se otima kontroli i on počinje da se pita: je li sve to zapravo nameštaljka\, tj. skrivena kamera koju podmeću njemu? \nKada se uveri da su određene okolnosti ipak stvarne\, prinuđen je da spasava sopstvenu kožu na način na koji jedino i zna… pomoću reality programa. \nAli\, on mora da razluči najvažnije: da li je ceo njegov život jedan veliki reality? I šta je u svemu stvarno\, a šta samo izmišljotina koja donosi rejtinge? \nhttp://www.systementertainment.com 
URL:https://toblink.com/event/%d0%bf%d0%b0%d1%82%d1%83%d1%99%d1%86%d0%b8-%d1%81%d0%b0-%d0%bd%d0%b0%d1%81%d0%bb%d0%be%d0%b2%d0%bd%d0%b8%d1%85-%d1%81%d1%82%d1%80%d0%b0%d0%bd%d0%b0/
LOCATION:REGENT THEATRE\, 551 Mount Pleasant Road\, Toronto\, Ontario\, M4S 2M5\, Canada
CATEGORIES:Film
ORGANIZER;CN="systementertainment.com":MAILTO:info@systementertainment.com
END:VEVENT
BEGIN:VEVENT
DTSTART;TZID=UTC:20180304T193000
DTEND;TZID=UTC:20180304T210000
DTSTAMP:20260421T210233
CREATED:20180222T044733Z
LAST-MODIFIED:20180223T231724Z
UID:1371-1520191800-1520197200@toblink.com
SUMMARY:MENJAMO MUŽEVE
DESCRIPTION:“MENJAMO MUŽEVE ” je urnebesna komedija o dva bračna para koja žele da budu moderni… Kroz niz smešnih situacija oni pokušavaju da sprovedu neke “moderne ideje”. Ova komedija situacije – vodvilj\, do suza će vas nasmejati i razgaliti i postaviti razna pitanja na temu bračnih odnosa. Koliko smo toga spremni da učinimo da bismo osvežili brak i iznenadili partnera? Jedno je sigurno – predstava “Menjamo muževe ” kroz slična pitanja garantuje sjajan provod. \nIgraju: \nMina Lazarević \nMilan Kalinić \nIvana Knežević \nSrdjan Ivanović \nScenografija\, tekst i režija: Zoran Babić \nInfo tel.: \nToronto\, Waterloo\, Kitchener: 416.828.0643
URL:https://toblink.com/event/menjamo-muzeve-2018-03-04/
LOCATION:Theatre of The Arts( Drama Department)\, 200 University Ave.\, Waterloo\, Ontario\, Canada
CATEGORIES:Komedija
ATTACH;FMTTYPE=image/jpeg:https://toblink.com/wp-content/uploads/2018/02/350.jpg
END:VEVENT
END:VCALENDAR