BEGIN:VCALENDAR
VERSION:2.0
PRODID:-//TOblink Events - ECPv6.3.3.1//NONSGML v1.0//EN
CALSCALE:GREGORIAN
METHOD:PUBLISH
X-WR-CALNAME:TOblink Events
X-ORIGINAL-URL:https://toblink.com
X-WR-CALDESC:Events for TOblink Events
REFRESH-INTERVAL;VALUE=DURATION:PT1H
X-Robots-Tag:noindex
X-PUBLISHED-TTL:PT1H
BEGIN:VTIMEZONE
TZID:UTC
BEGIN:STANDARD
TZOFFSETFROM:+0000
TZOFFSETTO:+0000
TZNAME:UTC
DTSTART:20180101T000000
END:STANDARD
END:VTIMEZONE
BEGIN:VEVENT
DTSTART;TZID=America/Halifax:20260421T223637
DTEND;TZID=America/Halifax:20180324T210000
DTSTAMP:20260421T223637
CREATED:20180313T205521Z
LAST-MODIFIED:20180313T205521Z
UID:1491-0-1521925200@toblink.com
SUMMARY:
DESCRIPTION:  \nЖаба/ The Frog\, by Emir Jukić\, Bosnian Film
URL:https://toblink.com/event/1491/
LOCATION:REGENT THEATRE\, 551 Mount Pleasant Road\, Toronto\, Ontario\, M4S 2M5\, Canada
CATEGORIES:Film
END:VEVENT
BEGIN:VEVENT
DTSTART;TZID=UTC:20180223T200000
DTEND;TZID=UTC:20180223T213000
DTSTAMP:20260421T223637
CREATED:20180222T044733Z
LAST-MODIFIED:20180223T231714Z
UID:1336-1519416000-1519421400@toblink.com
SUMMARY:MENJAMO MUŽEVE
DESCRIPTION:“MENJAMO MUŽEVE ” je urnebesna komedija o dva bračna para koja žele da budu moderni… Kroz niz smešnih situacija oni pokušavaju da sprovedu neke “moderne ideje”. Ova komedija situacije – vodvilj\, do suza će vas nasmejati i razgaliti i postaviti razna pitanja na temu bračnih odnosa. Koliko smo toga spremni da učinimo da bismo osvežili brak i iznenadili partnera? Jedno je sigurno – predstava “Menjamo muževe ” kroz slična pitanja garantuje sjajan provod. \nIgraju: \nMina Lazarević \nMilan Kalinić \nIvana Knežević \nSrdjan Ivanović \nScenografija\, tekst i režija: Zoran Babić \nInfo tel.: \nToronto\, Waterloo\, Kitchener: 416.828.0643
URL:https://toblink.com/event/menjamo-muzeve/
LOCATION:Theatre of The Arts( Drama Department)\, 200 University Ave.\, Waterloo\, Ontario\, Canada
CATEGORIES:Komedija
ATTACH;FMTTYPE=image/jpeg:https://toblink.com/wp-content/uploads/2018/02/350.jpg
END:VEVENT
END:VCALENDAR